BEGIN:VCALENDAR
VERSION:2.0
PRODID:-//Fine Arts Center - ECPv6.13.0//NONSGML v1.0//EN
CALSCALE:GREGORIAN
METHOD:PUBLISH
X-WR-CALNAME:Fine Arts Center
X-ORIGINAL-URL:https://devfac.coloradocollege.edu
X-WR-CALDESC:Events for Fine Arts Center
REFRESH-INTERVAL;VALUE=DURATION:PT1H
X-Robots-Tag:noindex
X-PUBLISHED-TTL:PT1H
BEGIN:VTIMEZONE
TZID:America/Denver
BEGIN:DAYLIGHT
TZOFFSETFROM:-0700
TZOFFSETTO:-0600
TZNAME:MDT
DTSTART:20190310T090000
END:DAYLIGHT
BEGIN:STANDARD
TZOFFSETFROM:-0600
TZOFFSETTO:-0700
TZNAME:MST
DTSTART:20191103T080000
END:STANDARD
END:VTIMEZONE
BEGIN:VEVENT
DTSTART;TZID=America/Denver:20190420T193000
DTEND;TZID=America/Denver:20190420T230000
DTSTAMP:20260419T084729
CREATED:20190318T160825Z
LAST-MODIFIED:20190418T210217Z
UID:8339-1555788600-1555801200@devfac.coloradocollege.edu
SUMMARY:Flash Cadillac
DESCRIPTION:Traditional Rock n’ Roll since 1969 including appearances in two of the biggest impact motion pictures ever filmed “(American Graffiti\,” 1973; “Apocalypse Now\,” 1978).”The group is a virtual encyclopedia of rock’s last early years…supremely entertaining.” – The Denver Post
URL:https://devfac.coloradocollege.edu/event/flash-cadillac/
LOCATION:Colorado
CATEGORIES:Special Event
ATTACH;FMTTYPE=image/jpeg:https://devfac.coloradocollege.edu/wp-content/uploads/2019/03/flash_cadillac-1.jpg
END:VEVENT
END:VCALENDAR