BEGIN:VCALENDAR
VERSION:2.0
PRODID:-//Fine Arts Center - ECPv6.13.0//NONSGML v1.0//EN
CALSCALE:GREGORIAN
METHOD:PUBLISH
X-WR-CALNAME:Fine Arts Center
X-ORIGINAL-URL:https://devfac.coloradocollege.edu
X-WR-CALDESC:Events for Fine Arts Center
REFRESH-INTERVAL;VALUE=DURATION:PT1H
X-Robots-Tag:noindex
X-PUBLISHED-TTL:PT1H
BEGIN:VTIMEZONE
TZID:America/Denver
BEGIN:DAYLIGHT
TZOFFSETFROM:-0700
TZOFFSETTO:-0600
TZNAME:MDT
DTSTART:20220313T090000
END:DAYLIGHT
BEGIN:STANDARD
TZOFFSETFROM:-0600
TZOFFSETTO:-0700
TZNAME:MST
DTSTART:20221106T080000
END:STANDARD
END:VTIMEZONE
BEGIN:VEVENT
DTSTART;TZID=America/Denver:20220820T100000
DTEND;TZID=America/Denver:20220820T130000
DTSTAMP:20260423T093256
CREATED:20220428T195021Z
LAST-MODIFIED:20220428T195021Z
UID:28898-1660989600-1661000400@devfac.coloradocollege.edu
SUMMARY:Ceramic Sets
DESCRIPTION:In these two sessions\, learn some new techniques and get creative with a variety of handbuilding methods. Make a set of wares that will be a functional memento. Make ceramics to serve drinks\, snacks\, or whatever you choose!
URL:https://devfac.coloradocollege.edu/event/ceramic-sets/
LOCATION:Bemis School of Art\, 818 Pelham Pl\, Colorado Springs\, CO\, 80903\, United States
CATEGORIES:Art School
ATTACH;FMTTYPE=image/jpeg:https://devfac.coloradocollege.edu/wp-content/uploads/2021/05/Ceramic-Serving-Set-McKinley-Cara500.jpg
END:VEVENT
END:VCALENDAR