BEGIN:VCALENDAR
VERSION:2.0
PRODID:-//Fine Arts Center - ECPv6.13.0//NONSGML v1.0//EN
CALSCALE:GREGORIAN
METHOD:PUBLISH
X-WR-CALNAME:Fine Arts Center
X-ORIGINAL-URL:https://devfac.coloradocollege.edu
X-WR-CALDESC:Events for Fine Arts Center
REFRESH-INTERVAL;VALUE=DURATION:PT1H
X-Robots-Tag:noindex
X-PUBLISHED-TTL:PT1H
BEGIN:VTIMEZONE
TZID:America/Denver
BEGIN:DAYLIGHT
TZOFFSETFROM:-0700
TZOFFSETTO:-0600
TZNAME:MDT
DTSTART:20220313T090000
END:DAYLIGHT
BEGIN:STANDARD
TZOFFSETFROM:-0600
TZOFFSETTO:-0700
TZNAME:MST
DTSTART:20221106T080000
END:STANDARD
END:VTIMEZONE
BEGIN:VEVENT
DTSTART;TZID=America/Denver:20220608T190000
DTEND;TZID=America/Denver:20220608T203000
DTSTAMP:20260424T003804
CREATED:20220428T195314Z
LAST-MODIFIED:20220428T195314Z
UID:28902-1654714800-1654720200@devfac.coloradocollege.edu
SUMMARY:Embroidery: Drawing & Painting with Thread
DESCRIPTION:In this course\, you will be introduced to the process of artistic needlework. Rob considers his work as drawing and painting with thread. Starting with basic exercises\, learn color blending\, shading\, drawing\, creating lines\, and other fundamental embroidery techniques. With the support of the instructor\, you will be encouraged to sketch design ideas from your imagination\, photos\, or natural surroundings\, which will serve as a basis for a final piece.
URL:https://devfac.coloradocollege.edu/event/embroidery-drawing-painting-with-thread/
LOCATION:Bemis School of Art\, 818 Pelham Pl\, Colorado Springs\, CO\, 80903\, United States
CATEGORIES:Art School
ATTACH;FMTTYPE=image/jpeg:https://devfac.coloradocollege.edu/wp-content/uploads/2022/04/emboridery-500.jpeg
END:VEVENT
END:VCALENDAR