BEGIN:VCALENDAR
VERSION:2.0
PRODID:-//Fine Arts Center - ECPv6.13.0//NONSGML v1.0//EN
CALSCALE:GREGORIAN
METHOD:PUBLISH
X-WR-CALNAME:Fine Arts Center
X-ORIGINAL-URL:https://devfac.coloradocollege.edu
X-WR-CALDESC:Events for Fine Arts Center
REFRESH-INTERVAL;VALUE=DURATION:PT1H
X-Robots-Tag:noindex
X-PUBLISHED-TTL:PT1H
BEGIN:VTIMEZONE
TZID:America/Denver
BEGIN:DAYLIGHT
TZOFFSETFROM:-0700
TZOFFSETTO:-0600
TZNAME:MDT
DTSTART:20220313T090000
END:DAYLIGHT
BEGIN:STANDARD
TZOFFSETFROM:-0600
TZOFFSETTO:-0700
TZNAME:MST
DTSTART:20221106T080000
END:STANDARD
END:VTIMEZONE
BEGIN:VEVENT
DTSTART;TZID=America/Denver:20220606T173000
DTEND;TZID=America/Denver:20220606T193000
DTSTAMP:20260423T140333
CREATED:20220428T173837Z
LAST-MODIFIED:20220428T173837Z
UID:28891-1654536600-1654543800@devfac.coloradocollege.edu
SUMMARY:Military Artistic Healing
DESCRIPTION:Discover the techniques to inspire creative skills and gain greater self-awareness. Explore possibilities\, develop your creativity\, and gain personal insight through working with a variety of controllable mediums. Visits to the Fine Arts Center’s museum galleries using visual thinking strategies will increase group cohesion. There are many benefits to using art to express emotions — art can furnish a healthy outlet and an alternate way to communicate something that one cannot always put into words\, provide safe containment for emotions that are expressed\, and reflecting on art can give new understanding and insight about feelings. Supplies will be provided.
URL:https://devfac.coloradocollege.edu/event/military-artistic-healing-2/
LOCATION:Bemis School of Art\, 818 Pelham Pl\, Colorado Springs\, CO\, 80903\, United States
CATEGORIES:Art School
ATTACH;FMTTYPE=image/jpeg:https://devfac.coloradocollege.edu/wp-content/uploads/2022/04/Military-Artistic-Healing-500.jpg
END:VEVENT
END:VCALENDAR