BEGIN:VCALENDAR
VERSION:2.0
PRODID:-//Fine Arts Center - ECPv6.13.0//NONSGML v1.0//EN
CALSCALE:GREGORIAN
METHOD:PUBLISH
X-WR-CALNAME:Fine Arts Center
X-ORIGINAL-URL:https://devfac.coloradocollege.edu
X-WR-CALDESC:Events for Fine Arts Center
REFRESH-INTERVAL;VALUE=DURATION:PT1H
X-Robots-Tag:noindex
X-PUBLISHED-TTL:PT1H
BEGIN:VTIMEZONE
TZID:America/Denver
BEGIN:DAYLIGHT
TZOFFSETFROM:-0700
TZOFFSETTO:-0600
TZNAME:MDT
DTSTART:20220313T090000
END:DAYLIGHT
BEGIN:STANDARD
TZOFFSETFROM:-0600
TZOFFSETTO:-0700
TZNAME:MST
DTSTART:20221106T080000
END:STANDARD
END:VTIMEZONE
BEGIN:VEVENT
DTSTART;TZID=America/Denver:20220218T160000
DTEND;TZID=America/Denver:20220218T180000
DTSTAMP:20260423T230508
CREATED:20220110T190851Z
LAST-MODIFIED:20220110T190851Z
UID:27312-1645200000-1645207200@devfac.coloradocollege.edu
SUMMARY:Drawing Sampler
DESCRIPTION:In this fundamentals of drawing workshop\, you will be guided into a new way of looking at how you draw. We will explore how to bring a source of light into your drawings\, sense of depth\, composition\, introduction to color theory\, perspective\, and more! Supplies will be provided. \n\nAges 6-9
URL:https://devfac.coloradocollege.edu/event/drawing-sampler/
LOCATION:Bemis School of Art\, 818 Pelham Pl\, Colorado Springs\, CO\, 80903\, United States
CATEGORIES:Art School
ATTACH;FMTTYPE=image/jpeg:https://devfac.coloradocollege.edu/wp-content/uploads/2020/09/Fundamentals-of-Drawing.jpg
END:VEVENT
END:VCALENDAR