BEGIN:VCALENDAR
VERSION:2.0
PRODID:-//Fine Arts Center - ECPv6.13.0//NONSGML v1.0//EN
CALSCALE:GREGORIAN
METHOD:PUBLISH
X-WR-CALNAME:Fine Arts Center
X-ORIGINAL-URL:https://devfac.coloradocollege.edu
X-WR-CALDESC:Events for Fine Arts Center
REFRESH-INTERVAL;VALUE=DURATION:PT1H
X-Robots-Tag:noindex
X-PUBLISHED-TTL:PT1H
BEGIN:VTIMEZONE
TZID:America/Denver
BEGIN:DAYLIGHT
TZOFFSETFROM:-0700
TZOFFSETTO:-0600
TZNAME:MDT
DTSTART:20210314T090000
END:DAYLIGHT
BEGIN:STANDARD
TZOFFSETFROM:-0600
TZOFFSETTO:-0700
TZNAME:MST
DTSTART:20211107T080000
END:STANDARD
END:VTIMEZONE
BEGIN:VEVENT
DTSTART;TZID=America/Denver:20211024T100000
DTEND;TZID=America/Denver:20211024T153000
DTSTAMP:20260424T063007
CREATED:20210820T152752Z
LAST-MODIFIED:20210820T152752Z
UID:25722-1635069600-1635089400@devfac.coloradocollege.edu
SUMMARY:Abstract Collage: How to Create a Visual Language with Altered Materials
DESCRIPTION:In the first half of the day\, we will experiment with an extensive list of mark making tools to create unique collage papers. We will test ink\, colored pencil\, oil pastel\, charcoal\, ball point pen\, and markers—just to name a few. Because we are playing\, and not focused on a “perfect” piece of art\, the use of materials is relaxing and fun. In the afternoon we will use our altered papers and arrange the pieces in a variety of abstract collages. Supply list online. Ages 16–Adult \nInstructor: Laura Raborn\nLevel I – This class is for those with some familiarity with the medium. This could include informal use of medium outside of the classroom.
URL:https://devfac.coloradocollege.edu/event/abstract-collage-how-to-create-a-visual-language-with-altered-materials/
LOCATION:Bemis School of Art\, 818 Pelham Pl\, Colorado Springs\, CO\, 80903\, United States
CATEGORIES:Art School
ATTACH;FMTTYPE=image/jpeg:https://devfac.coloradocollege.edu/wp-content/uploads/2021/08/Image-2-Abstract-Collage500.jpg
END:VEVENT
BEGIN:VEVENT
DTSTART;TZID=America/Denver:20210926T160000
DTEND;TZID=America/Denver:20210926T180000
DTSTAMP:20260424T063007
CREATED:20210820T153041Z
LAST-MODIFIED:20211018T145422Z
UID:25655-1632672000-1632679200@devfac.coloradocollege.edu
SUMMARY:Finding your Voice! Self Expression for Teens
DESCRIPTION:This workshop uses several creative activities to unlock your expressive voice through your art! Zine making and blackout poetry are just two ways we will dive into finding your own unique narrative and learning how to assert power through your creative endeavors. In addition\, you will be provided with links to virtual content to explore on your own time outside of class if you so choose. These examples include political contemporary artists using zine making as a tool for artivism\, examples of online black-out poetry\, and resources to learn more about black-out poetry on YouTube. Supplies will be provided. Ages 12-16. \nInstructor: Jasmine Dillavou
URL:https://devfac.coloradocollege.edu/event/finding-your-voice-self-expression-for-teens/
LOCATION:Bemis School of Art\, 818 Pelham Pl\, Colorado Springs\, CO\, 80903\, United States
CATEGORIES:Art School
ATTACH;FMTTYPE=image/jpeg:https://devfac.coloradocollege.edu/wp-content/uploads/2021/08/Image-Y-Finding-your-Voice-Self-Expression-for-Teens-12-16500.jpg
END:VEVENT
END:VCALENDAR