BEGIN:VCALENDAR
VERSION:2.0
PRODID:-//Fine Arts Center - ECPv6.13.0//NONSGML v1.0//EN
CALSCALE:GREGORIAN
METHOD:PUBLISH
X-WR-CALNAME:Fine Arts Center
X-ORIGINAL-URL:https://devfac.coloradocollege.edu
X-WR-CALDESC:Events for Fine Arts Center
REFRESH-INTERVAL;VALUE=DURATION:PT1H
X-Robots-Tag:noindex
X-PUBLISHED-TTL:PT1H
BEGIN:VTIMEZONE
TZID:America/Denver
BEGIN:DAYLIGHT
TZOFFSETFROM:-0700
TZOFFSETTO:-0600
TZNAME:MDT
DTSTART:20240310T090000
END:DAYLIGHT
BEGIN:STANDARD
TZOFFSETFROM:-0600
TZOFFSETTO:-0700
TZNAME:MST
DTSTART:20241103T080000
END:STANDARD
END:VTIMEZONE
BEGIN:VEVENT
DTSTART;TZID=America/Denver:20240502T170000
DTEND;TZID=America/Denver:20240502T183000
DTSTAMP:20260420T123810
CREATED:20240412T163403Z
LAST-MODIFIED:20240412T163404Z
UID:34498-1714669200-1714674600@devfac.coloradocollege.edu
SUMMARY:Carnival (Summer Music Festival Class)
DESCRIPTION:Students will create illustrations for the presentation of The Carnival of the Animals at the Colorado College Summer Music Festival. Drawing skills are required as well as a love of making art. We will focus on creating the cast of joyful animal characters inspired by Camille Saint Saens musical composition. A roaring lion\, a kangaroo wearing pajamas\, a stately swan\, and a squealing donkey are a few of the fun-loving characters we will create. While the orchestra performs the musical composition and a narrator reads the story\, the student’s illustrations will be shown on a screen for the audience to view. This is a unique opportunity for young creatives and their families to enjoy. Supplies will be provided. \nAges 8-12 \nREGISTER
URL:https://devfac.coloradocollege.edu/event/carnival-summer-music-festival-class/
LOCATION:Bemis School of Art\, 818 Pelham Pl\, Colorado Springs\, CO\, 80903\, United States
CATEGORIES:Art School
ATTACH;FMTTYPE=image/jpeg:https://devfac.coloradocollege.edu/wp-content/uploads/2024/04/Carnival-Bemis-SMF.jpeg
END:VEVENT
BEGIN:VEVENT
DTSTART;TZID=America/Denver:20240502T170000
DTEND;TZID=America/Denver:20240502T183000
DTSTAMP:20260420T123810
CREATED:20240412T163403Z
LAST-MODIFIED:20240412T163404Z
UID:34498-1714669200-1714674600@devfac.coloradocollege.edu
SUMMARY:Carnival (Summer Music Festival Class)
DESCRIPTION:Students will create illustrations for the presentation of The Carnival of the Animals at the Colorado College Summer Music Festival. Drawing skills are required as well as a love of making art. We will focus on creating the cast of joyful animal characters inspired by Camille Saint Saens musical composition. A roaring lion\, a kangaroo wearing pajamas\, a stately swan\, and a squealing donkey are a few of the fun-loving characters we will create. While the orchestra performs the musical composition and a narrator reads the story\, the student’s illustrations will be shown on a screen for the audience to view. This is a unique opportunity for young creatives and their families to enjoy. Supplies will be provided. \nAges 8-12 \nREGISTER
URL:https://devfac.coloradocollege.edu/event/carnival-summer-music-festival-class/
LOCATION:Bemis School of Art\, 818 Pelham Pl\, Colorado Springs\, CO\, 80903\, United States
CATEGORIES:Art School
ATTACH;FMTTYPE=image/jpeg:https://devfac.coloradocollege.edu/wp-content/uploads/2024/04/Carnival-Bemis-SMF.jpeg
END:VEVENT
BEGIN:VEVENT
DTSTART;TZID=America/Denver:20240511T103000
DTEND;TZID=America/Denver:20240511T130000
DTSTAMP:20260420T123810
CREATED:20240326T205820Z
LAST-MODIFIED:20240502T194256Z
UID:34088-1715423400-1715432400@devfac.coloradocollege.edu
SUMMARY:Family Adventure Day
DESCRIPTION:Pop in between 10:30 a.m.–1 p.m. to check out what the Fine Arts Center has to offer and explore your creativity in drawing\, painting\, and sculpture! Family Adventure Day will offer a variety of hands-on art projects\, along with artist demonstrations and interactive\, self-guided activities with partners Pikes Peak Children’s Museum and Project Angel Heart. Bemis instructors will help guide you to awaken your creativity or show you new possibilities in art making. And while you are here\, make sure to check out Museum Free Day. Museum Free Days are just that\, an opportunity for the public to enjoy our galleries free of charge. Donations are welcome.\n\nThis event is free and all ages and skill levels can participate! RSVPs are requested.\n\nPLEASE RSVP\n\nMembers get early access at 10 a.m. and are also invited to take part in an Art Scavenger Hunt at Family Adventure Day!\n\nMembers will enjoy:\n\nCheck in at the member table to receive your art scavenger map.\nVisit different art activity stations to collect stamps on your map.\nComplete the hunt and receive a special take-home art activity!\n\nNot a member? Join today for as little as $5 a month!
URL:https://devfac.coloradocollege.edu/event/family-adventure-day-3/
LOCATION:Fine Arts Center\, 30 W. Dale St.\, Colorado Springs\, CO\, 80903\, United States
CATEGORIES:Art School,Museum,Special Event
ATTACH;FMTTYPE=image/jpeg:https://devfac.coloradocollege.edu/wp-content/uploads/2024/03/Family-Adventure-Day1-1.jpg
END:VEVENT
BEGIN:VEVENT
DTSTART;TZID=America/Denver:20240502T170000
DTEND;TZID=America/Denver:20240502T183000
DTSTAMP:20260420T123810
CREATED:20240412T163403Z
LAST-MODIFIED:20240412T163404Z
UID:34498-1714669200-1714674600@devfac.coloradocollege.edu
SUMMARY:Carnival (Summer Music Festival Class)
DESCRIPTION:Students will create illustrations for the presentation of The Carnival of the Animals at the Colorado College Summer Music Festival. Drawing skills are required as well as a love of making art. We will focus on creating the cast of joyful animal characters inspired by Camille Saint Saens musical composition. A roaring lion\, a kangaroo wearing pajamas\, a stately swan\, and a squealing donkey are a few of the fun-loving characters we will create. While the orchestra performs the musical composition and a narrator reads the story\, the student’s illustrations will be shown on a screen for the audience to view. This is a unique opportunity for young creatives and their families to enjoy. Supplies will be provided. \nAges 8-12 \nREGISTER
URL:https://devfac.coloradocollege.edu/event/carnival-summer-music-festival-class/
LOCATION:Bemis School of Art\, 818 Pelham Pl\, Colorado Springs\, CO\, 80903\, United States
CATEGORIES:Art School
ATTACH;FMTTYPE=image/jpeg:https://devfac.coloradocollege.edu/wp-content/uploads/2024/04/Carnival-Bemis-SMF.jpeg
END:VEVENT
BEGIN:VEVENT
DTSTART;TZID=America/Denver:20240502T170000
DTEND;TZID=America/Denver:20240502T183000
DTSTAMP:20260420T123810
CREATED:20240412T163403Z
LAST-MODIFIED:20240412T163404Z
UID:34498-1714669200-1714674600@devfac.coloradocollege.edu
SUMMARY:Carnival (Summer Music Festival Class)
DESCRIPTION:Students will create illustrations for the presentation of The Carnival of the Animals at the Colorado College Summer Music Festival. Drawing skills are required as well as a love of making art. We will focus on creating the cast of joyful animal characters inspired by Camille Saint Saens musical composition. A roaring lion\, a kangaroo wearing pajamas\, a stately swan\, and a squealing donkey are a few of the fun-loving characters we will create. While the orchestra performs the musical composition and a narrator reads the story\, the student’s illustrations will be shown on a screen for the audience to view. This is a unique opportunity for young creatives and their families to enjoy. Supplies will be provided. \nAges 8-12 \nREGISTER
URL:https://devfac.coloradocollege.edu/event/carnival-summer-music-festival-class/
LOCATION:Bemis School of Art\, 818 Pelham Pl\, Colorado Springs\, CO\, 80903\, United States
CATEGORIES:Art School
ATTACH;FMTTYPE=image/jpeg:https://devfac.coloradocollege.edu/wp-content/uploads/2024/04/Carnival-Bemis-SMF.jpeg
END:VEVENT
BEGIN:VEVENT
DTSTART;TZID=America/Denver:20240502T170000
DTEND;TZID=America/Denver:20240502T183000
DTSTAMP:20260420T123810
CREATED:20240412T163403Z
LAST-MODIFIED:20240412T163404Z
UID:34498-1714669200-1714674600@devfac.coloradocollege.edu
SUMMARY:Carnival (Summer Music Festival Class)
DESCRIPTION:Students will create illustrations for the presentation of The Carnival of the Animals at the Colorado College Summer Music Festival. Drawing skills are required as well as a love of making art. We will focus on creating the cast of joyful animal characters inspired by Camille Saint Saens musical composition. A roaring lion\, a kangaroo wearing pajamas\, a stately swan\, and a squealing donkey are a few of the fun-loving characters we will create. While the orchestra performs the musical composition and a narrator reads the story\, the student’s illustrations will be shown on a screen for the audience to view. This is a unique opportunity for young creatives and their families to enjoy. Supplies will be provided. \nAges 8-12 \nREGISTER
URL:https://devfac.coloradocollege.edu/event/carnival-summer-music-festival-class/
LOCATION:Bemis School of Art\, 818 Pelham Pl\, Colorado Springs\, CO\, 80903\, United States
CATEGORIES:Art School
ATTACH;FMTTYPE=image/jpeg:https://devfac.coloradocollege.edu/wp-content/uploads/2024/04/Carnival-Bemis-SMF.jpeg
END:VEVENT
END:VCALENDAR