BEGIN:VCALENDAR
VERSION:2.0
PRODID:-//Fine Arts Center - ECPv6.13.0//NONSGML v1.0//EN
CALSCALE:GREGORIAN
METHOD:PUBLISH
X-WR-CALNAME:Fine Arts Center
X-ORIGINAL-URL:https://devfac.coloradocollege.edu
X-WR-CALDESC:Events for Fine Arts Center
REFRESH-INTERVAL;VALUE=DURATION:PT1H
X-Robots-Tag:noindex
X-PUBLISHED-TTL:PT1H
BEGIN:VTIMEZONE
TZID:America/Denver
BEGIN:DAYLIGHT
TZOFFSETFROM:-0700
TZOFFSETTO:-0600
TZNAME:MDT
DTSTART:20240310T090000
END:DAYLIGHT
BEGIN:STANDARD
TZOFFSETFROM:-0600
TZOFFSETTO:-0700
TZNAME:MST
DTSTART:20241103T080000
END:STANDARD
END:VTIMEZONE
BEGIN:VEVENT
DTSTART;VALUE=DATE:20240122
DTEND;VALUE=DATE:20240420
DTSTAMP:20260420T154427
CREATED:20240115T180458Z
LAST-MODIFIED:20240115T180459Z
UID:33727-1705881600-1713571199@devfac.coloradocollege.edu
SUMMARY:Bemis School of Art Winter/Spring Session
DESCRIPTION:Whatever your artistic interest and whatever your age or skill level\, we have classes to drive your passions at the Fine Arts Center’s Bemis School of Art. Explore! \nBrowse classes
URL:https://devfac.coloradocollege.edu/event/bemis-school-of-art-winter-spring-session/
LOCATION:Bemis School of Art\, 818 Pelham Pl\, Colorado Springs\, CO\, 80903\, United States
CATEGORIES:Art School
ATTACH;FMTTYPE=image/jpeg:https://devfac.coloradocollege.edu/wp-content/uploads/2015/02/Bemis-hands_600.jpg
END:VEVENT
BEGIN:VEVENT
DTSTART;TZID=America/Denver:20240405T170000
DTEND;TZID=America/Denver:20240405T193000
DTSTAMP:20260420T154427
CREATED:20240301T212401Z
LAST-MODIFIED:20240308T234112Z
UID:33940-1712336400-1712345400@devfac.coloradocollege.edu
SUMMARY:The Fine Arts Center Look Ahead 2024–25
DESCRIPTION:Join us for a special First Friday Art Party as we unveil the 2024-25 theatre season\, showcase upcoming museum exhibitions\, and introduce exciting Bemis School of Art classes with live demos from our talented instructors! We may even have a few surprises in store. You don’t want to miss out on all the fun and excitement\, so be sure to mark your calendar and come celebrate with us! This event is free and open to the public; no reservations required. \n5–6:15 p.m.: Chat with Bemis School of Art Director Tara Sevanne Thomas and watch live demos from Bemis School of Art instructors; music by J. Chang-Tablada in Deco Lounge \n6:15 p.m.: Welcome from Executive Director Nicole Herden and upcoming museum exhibitions with Director of Visual Arts and Museum Michael Christiano in Taste Restaurant \n6:50 p.m.: Upcoming theatre season announcement with Producing Artistic Director Chris Sheley in the Mainstage Theatre \nMembers: This event will take place in lieu of the regularly scheduled member tour.
URL:https://devfac.coloradocollege.edu/event/look-ahead-2024-25/
LOCATION:Fine Arts Center\, 30 W. Dale St.\, Colorado Springs\, CO\, 80903\, United States
CATEGORIES:Art School,Museum,Special Event,Theatre
ATTACH;FMTTYPE=image/jpeg:https://devfac.coloradocollege.edu/wp-content/uploads/2023/12/Courtyard_500.jpg
END:VEVENT
BEGIN:VEVENT
DTSTART;TZID=America/Denver:20240426T173000
DTEND;TZID=America/Denver:20240426T193000
DTSTAMP:20260420T154427
CREATED:20240326T175618Z
LAST-MODIFIED:20240426T205059Z
UID:34062-1714152600-1714159800@devfac.coloradocollege.edu
SUMMARY:Sushi & Clay
DESCRIPTION:Join us for an immersive sushi-making experience led by two of Bon Appetit’s finest sushi chefs! Participants will learn how to prepare three dishes: tuna sashimi/nigiri\, a spicy tuna roll\, and a California roll. When it’s time for the taste test\, participants will pick a unique sushi platter and mini soy sauce dish made by CC clay artists to plate up their masterpieces and later take home. \nTickets: $75 ($70 for members)\, includes sushi and custom sushi platter and soy sauce dish to take home. \nBUY TICKETS
URL:https://devfac.coloradocollege.edu/event/sushi-clay/
LOCATION:Bemis School of Art\, 818 Pelham Pl\, Colorado Springs\, CO\, 80903\, United States
CATEGORIES:Art School,Special Event
ATTACH;FMTTYPE=image/jpeg:https://devfac.coloradocollege.edu/wp-content/uploads/2024/03/Sushi-Clay_500.jpg
END:VEVENT
BEGIN:VEVENT
DTSTART;TZID=America/Denver:20240427T130000
DTEND;TZID=America/Denver:20240427T170000
DTSTAMP:20260420T154427
CREATED:20240308T235037Z
LAST-MODIFIED:20240422T155604Z
UID:33985-1714222800-1714237200@devfac.coloradocollege.edu
SUMMARY:Acrylic Portrait Painting Inspired by Clarence Shivers
DESCRIPTION:Experience the allure of Clarence Shivers’ influence through captivating portraits in the Fine Arts Center galleries. Delve into the Clarence Shivers: Experimenting with Form exhibition\, where you can witness firsthand his diverse approach to the art of portraiture. Following this enriching exploration\, we will move to the Painting Studio for a hands-on session. Here\, you’ll have the opportunity to craft your own portrait using acrylic paint on canvas. Through guidance\, you’ll explore various techniques in portrait composition\, delve into the dynamic qualities of acrylic paint\, experiment with color mixing\, and cultivate your unique artistic style. This immersive experience promises to boost your confidence in portrait painting while equipping you with skills for countless years of joyful and creative expression. We will meet at the Fine Arts Center lobby promptly at 1 p.m. \nLevel III – This class is for those who have significant experience in the medium – two to three or more classes or a year or more of experience. \nAges 16-Adult
URL:https://devfac.coloradocollege.edu/event/acrylic-portrait-painting-inspired-by-clarence-shivers/
LOCATION:Bemis School of Art\, 818 Pelham Pl\, Colorado Springs\, CO\, 80903\, United States
CATEGORIES:Art School
ATTACH;FMTTYPE=image/jpeg:https://devfac.coloradocollege.edu/wp-content/uploads/2024/03/madona-complex-cc.jpeg
END:VEVENT
END:VCALENDAR