BEGIN:VCALENDAR
VERSION:2.0
PRODID:-//Fine Arts Center - ECPv6.13.0//NONSGML v1.0//EN
CALSCALE:GREGORIAN
METHOD:PUBLISH
X-WR-CALNAME:Fine Arts Center
X-ORIGINAL-URL:https://devfac.coloradocollege.edu
X-WR-CALDESC:Events for Fine Arts Center
REFRESH-INTERVAL;VALUE=DURATION:PT1H
X-Robots-Tag:noindex
X-PUBLISHED-TTL:PT1H
BEGIN:VTIMEZONE
TZID:America/Denver
BEGIN:DAYLIGHT
TZOFFSETFROM:-0700
TZOFFSETTO:-0600
TZNAME:MDT
DTSTART:20240310T090000
END:DAYLIGHT
BEGIN:STANDARD
TZOFFSETFROM:-0600
TZOFFSETTO:-0700
TZNAME:MST
DTSTART:20241103T080000
END:STANDARD
END:VTIMEZONE
BEGIN:VEVENT
DTSTART;VALUE=DATE:20240122
DTEND;VALUE=DATE:20240420
DTSTAMP:20260420T195424
CREATED:20240115T180458Z
LAST-MODIFIED:20240115T180459Z
UID:33727-1705881600-1713571199@devfac.coloradocollege.edu
SUMMARY:Bemis School of Art Winter/Spring Session
DESCRIPTION:Whatever your artistic interest and whatever your age or skill level\, we have classes to drive your passions at the Fine Arts Center’s Bemis School of Art. Explore! \nBrowse classes
URL:https://devfac.coloradocollege.edu/event/bemis-school-of-art-winter-spring-session/
LOCATION:Bemis School of Art\, 818 Pelham Pl\, Colorado Springs\, CO\, 80903\, United States
CATEGORIES:Art School
ATTACH;FMTTYPE=image/jpeg:https://devfac.coloradocollege.edu/wp-content/uploads/2015/02/Bemis-hands_600.jpg
END:VEVENT
BEGIN:VEVENT
DTSTART;TZID=America/Denver:20240125T180000
DTEND;TZID=America/Denver:20240125T193000
DTSTAMP:20260420T195424
CREATED:20231215T202222Z
LAST-MODIFIED:20231215T202222Z
UID:33601-1706205600-1706211000@devfac.coloradocollege.edu
SUMMARY:Realistic Animal Portraits
DESCRIPTION:Do you have a favorite pet? Is the zoo your favorite place to visit? In this class you will learn multiple techniques to bring those furry friends to life! We will explore the grid scale technique to help you confidently draw complex shapes more simply. We will then practice skills to explore the charcoal medium and other tools that help achieve the unique characteristics of your individual animals. \nLevel A – All levels welcome. \nAges 16–Adult
URL:https://devfac.coloradocollege.edu/event/realistic-animal-portraits/
LOCATION:Bemis School of Art\, 818 Pelham Pl\, Colorado Springs\, CO\, 80903\, United States
CATEGORIES:Art School
ATTACH;FMTTYPE=image/png:https://devfac.coloradocollege.edu/wp-content/uploads/2023/12/Realistic-Animal-Portraits_500.png
END:VEVENT
BEGIN:VEVENT
DTSTART;TZID=America/Denver:20240125T183000
DTEND;TZID=America/Denver:20240125T210000
DTSTAMP:20260420T195424
CREATED:20231215T212723Z
LAST-MODIFIED:20231215T212723Z
UID:33627-1706207400-1706216400@devfac.coloradocollege.edu
SUMMARY:Slip Casting and Mold Making
DESCRIPTION:You will explore the process of creating multiples of a single clay object through foundational techniques in clay slip casting and plaster mold-making. You will have an opportunity to create your own object from clay and will learn to mix and pour plaster to fabricate a functional and reusable one-part mold. We will spend ample time learning to pour our own porcelain clay slip castings using plaster molds\, as well as introductory techniques for how to glaze porcelain castings. There is a material fee of $22 due to the instructor on the first day of class. \nLevel 0 – This class is for the true beginner with no prior experience in the medium. \nAges 16–Adult
URL:https://devfac.coloradocollege.edu/event/slip-casting-and-mold-making/
LOCATION:Bemis School of Art\, 818 Pelham Pl\, Colorado Springs\, CO\, 80903\, United States
CATEGORIES:Art School
ATTACH;FMTTYPE=image/jpeg:https://devfac.coloradocollege.edu/wp-content/uploads/2023/12/slip-casting-mold-making_500.jpg
END:VEVENT
BEGIN:VEVENT
DTSTART;TZID=America/Denver:20240127T093000
DTEND;TZID=America/Denver:20240127T113000
DTSTAMP:20260420T195424
CREATED:20231215T215034Z
LAST-MODIFIED:20231215T215034Z
UID:33632-1706347800-1706355000@devfac.coloradocollege.edu
SUMMARY:Classic Calligraphy
DESCRIPTION:In this two-hour class\, you’ll develop skills using an edged pen for calligraphy. You’ll learn to write in Italic calligraphy\, along with an introduction to other historic book hands. We’ll harness a combination of design awareness\, craft skills\, and rhythmic vitality to create beautiful writing. \nLevel A – All levels welcome. \nAdults
URL:https://devfac.coloradocollege.edu/event/classic-calligraphy/
LOCATION:Bemis School of Art\, 818 Pelham Pl\, Colorado Springs\, CO\, 80903\, United States
CATEGORIES:Art School
ATTACH;FMTTYPE=image/jpeg:https://devfac.coloradocollege.edu/wp-content/uploads/2023/12/calligraphy_500.jpg
END:VEVENT
BEGIN:VEVENT
DTSTART;TZID=America/Denver:20240122T090000
DTEND;TZID=America/Denver:20240122T113000
DTSTAMP:20260420T195424
CREATED:20231215T211632Z
LAST-MODIFIED:20231215T211632Z
UID:33610-1705914000-1705923000@devfac.coloradocollege.edu
SUMMARY:Pottery with Personality
DESCRIPTION:Join this class to create whimsical\, functional\, and decorative items that will bring joy to your home or garden. We will learn and improvise on basic handbuilding skills to create shapes\, eyes\, and other expressive features to bring personality to our mugs\, bowls\, garden sculptures\, and more. In this class\, you will explore various glazing techniques and finishes to make your creations come alive. \nLevel A – All levels welcome. \nAges 16–Adult
URL:https://devfac.coloradocollege.edu/event/pottery-with-personality/
LOCATION:Bemis School of Art\, 818 Pelham Pl\, Colorado Springs\, CO\, 80903\, United States
CATEGORIES:Art School
ATTACH;FMTTYPE=image/jpeg:https://devfac.coloradocollege.edu/wp-content/uploads/2023/12/pottery-with-personality.jpg
END:VEVENT
BEGIN:VEVENT
DTSTART;TZID=America/Denver:20240122T130000
DTEND;TZID=America/Denver:20240122T150000
DTSTAMP:20260420T195424
CREATED:20231215T212258Z
LAST-MODIFIED:20231215T212258Z
UID:33623-1705928400-1705935600@devfac.coloradocollege.edu
SUMMARY:Introduction to Pastel Techniques
DESCRIPTION:This course is aimed toward beginners but creatives working in other mediums who want to learn something new about this frequently overlooked art form. Through demonstration and hands-on creating\, students will learn the variety in which pastels\, papers\, and tools combine to create the most colorful artworks imaginable. \nLevel 0 – This class is for the true beginner with no prior experience in the medium. \nAdults
URL:https://devfac.coloradocollege.edu/event/introduction-to-pastel-techniques/
LOCATION:Bemis School of Art\, 818 Pelham Pl\, Colorado Springs\, CO\, 80903\, United States
CATEGORIES:Art School
ATTACH;FMTTYPE=image/jpeg:https://devfac.coloradocollege.edu/wp-content/uploads/2023/12/Pastel-techniques_500.jpg
END:VEVENT
BEGIN:VEVENT
DTSTART;TZID=America/Denver:20240125T180000
DTEND;TZID=America/Denver:20240125T193000
DTSTAMP:20260420T195424
CREATED:20231215T202222Z
LAST-MODIFIED:20231215T202222Z
UID:33601-1706205600-1706211000@devfac.coloradocollege.edu
SUMMARY:Realistic Animal Portraits
DESCRIPTION:Do you have a favorite pet? Is the zoo your favorite place to visit? In this class you will learn multiple techniques to bring those furry friends to life! We will explore the grid scale technique to help you confidently draw complex shapes more simply. We will then practice skills to explore the charcoal medium and other tools that help achieve the unique characteristics of your individual animals. \nLevel A – All levels welcome. \nAges 16–Adult
URL:https://devfac.coloradocollege.edu/event/realistic-animal-portraits/
LOCATION:Bemis School of Art\, 818 Pelham Pl\, Colorado Springs\, CO\, 80903\, United States
CATEGORIES:Art School
ATTACH;FMTTYPE=image/png:https://devfac.coloradocollege.edu/wp-content/uploads/2023/12/Realistic-Animal-Portraits_500.png
END:VEVENT
BEGIN:VEVENT
DTSTART;TZID=America/Denver:20240125T183000
DTEND;TZID=America/Denver:20240125T210000
DTSTAMP:20260420T195424
CREATED:20231215T212723Z
LAST-MODIFIED:20231215T212723Z
UID:33627-1706207400-1706216400@devfac.coloradocollege.edu
SUMMARY:Slip Casting and Mold Making
DESCRIPTION:You will explore the process of creating multiples of a single clay object through foundational techniques in clay slip casting and plaster mold-making. You will have an opportunity to create your own object from clay and will learn to mix and pour plaster to fabricate a functional and reusable one-part mold. We will spend ample time learning to pour our own porcelain clay slip castings using plaster molds\, as well as introductory techniques for how to glaze porcelain castings. There is a material fee of $22 due to the instructor on the first day of class. \nLevel 0 – This class is for the true beginner with no prior experience in the medium. \nAges 16–Adult
URL:https://devfac.coloradocollege.edu/event/slip-casting-and-mold-making/
LOCATION:Bemis School of Art\, 818 Pelham Pl\, Colorado Springs\, CO\, 80903\, United States
CATEGORIES:Art School
ATTACH;FMTTYPE=image/jpeg:https://devfac.coloradocollege.edu/wp-content/uploads/2023/12/slip-casting-mold-making_500.jpg
END:VEVENT
BEGIN:VEVENT
DTSTART;TZID=America/Denver:20240127T093000
DTEND;TZID=America/Denver:20240127T113000
DTSTAMP:20260420T195424
CREATED:20231215T215034Z
LAST-MODIFIED:20231215T215034Z
UID:33632-1706347800-1706355000@devfac.coloradocollege.edu
SUMMARY:Classic Calligraphy
DESCRIPTION:In this two-hour class\, you’ll develop skills using an edged pen for calligraphy. You’ll learn to write in Italic calligraphy\, along with an introduction to other historic book hands. We’ll harness a combination of design awareness\, craft skills\, and rhythmic vitality to create beautiful writing. \nLevel A – All levels welcome. \nAdults
URL:https://devfac.coloradocollege.edu/event/classic-calligraphy/
LOCATION:Bemis School of Art\, 818 Pelham Pl\, Colorado Springs\, CO\, 80903\, United States
CATEGORIES:Art School
ATTACH;FMTTYPE=image/jpeg:https://devfac.coloradocollege.edu/wp-content/uploads/2023/12/calligraphy_500.jpg
END:VEVENT
BEGIN:VEVENT
DTSTART;TZID=America/Denver:20240125T183000
DTEND;TZID=America/Denver:20240125T210000
DTSTAMP:20260420T195424
CREATED:20231215T212723Z
LAST-MODIFIED:20231215T212723Z
UID:33627-1706207400-1706216400@devfac.coloradocollege.edu
SUMMARY:Slip Casting and Mold Making
DESCRIPTION:You will explore the process of creating multiples of a single clay object through foundational techniques in clay slip casting and plaster mold-making. You will have an opportunity to create your own object from clay and will learn to mix and pour plaster to fabricate a functional and reusable one-part mold. We will spend ample time learning to pour our own porcelain clay slip castings using plaster molds\, as well as introductory techniques for how to glaze porcelain castings. There is a material fee of $22 due to the instructor on the first day of class. \nLevel 0 – This class is for the true beginner with no prior experience in the medium. \nAges 16–Adult
URL:https://devfac.coloradocollege.edu/event/slip-casting-and-mold-making/
LOCATION:Bemis School of Art\, 818 Pelham Pl\, Colorado Springs\, CO\, 80903\, United States
CATEGORIES:Art School
ATTACH;FMTTYPE=image/jpeg:https://devfac.coloradocollege.edu/wp-content/uploads/2023/12/slip-casting-mold-making_500.jpg
END:VEVENT
BEGIN:VEVENT
DTSTART;TZID=America/Denver:20240221T130000
DTEND;TZID=America/Denver:20240221T160000
DTSTAMP:20260420T195424
CREATED:20231218T181020Z
LAST-MODIFIED:20231218T181020Z
UID:33655-1708520400-1708531200@devfac.coloradocollege.edu
SUMMARY:Advance Your Darkroom Skills
DESCRIPTION:You will process your own traditional black and white film and learn to make handcrafted silver-gelatin prints in the darkroom. You will learn advanced techniques such as split-filter printing\, Sabattier printing\, and combination printing to challenge your creativity and bring ideas to new heights. We will work to nurture your creativity\, giving you an opportunity to create a lasting portfolio of handcrafted\, photographic imagery. \nLevel II – This class is for those who have taken at least one class in the medium. Students should be comfortable with the basics of how to use and manipulate the medium. \nAges 16–Adult
URL:https://devfac.coloradocollege.edu/event/advance-your-darkroom-skills/
LOCATION:Bemis School of Art\, 818 Pelham Pl\, Colorado Springs\, CO\, 80903\, United States
CATEGORIES:Art School
ATTACH;FMTTYPE=image/jpeg:https://devfac.coloradocollege.edu/wp-content/uploads/2023/12/darkroom_500.jpg
END:VEVENT
BEGIN:VEVENT
DTSTART;TZID=America/Denver:20240224T100000
DTEND;TZID=America/Denver:20240224T153000
DTSTAMP:20260420T195424
CREATED:20231215T215555Z
LAST-MODIFIED:20231215T215555Z
UID:33639-1708768800-1708788600@devfac.coloradocollege.edu
SUMMARY:Dirty Dyeing Colors
DESCRIPTION:Get down and dirty with this introduction to immersion-dyeing class using acid and fiber reactive dyes. Students will learn the basics of how to color fabric and skeins using a dye bath. Color is free and loose while learning the step-by-step method of safely using synthetic dyes. This class is good for weavers\, knitters\, crocheters\, and quilters. There will be a 30-minute break for lunch\, so please be sure to bring a sack lunch. There is a material fee of $25 due to the instructor on the first day of class. \nLevel A – All levels welcome. \nAges 16–Adult
URL:https://devfac.coloradocollege.edu/event/dirty-dyeing-colors/
LOCATION:Bemis School of Art\, 818 Pelham Pl\, Colorado Springs\, CO\, 80903\, United States
CATEGORIES:Art School
ATTACH;FMTTYPE=image/jpeg:https://devfac.coloradocollege.edu/wp-content/uploads/2023/12/dirty-dying-colors_500.jpg
END:VEVENT
BEGIN:VEVENT
DTSTART;TZID=America/Denver:20240221T130000
DTEND;TZID=America/Denver:20240221T160000
DTSTAMP:20260420T195424
CREATED:20231218T181020Z
LAST-MODIFIED:20231218T181020Z
UID:33655-1708520400-1708531200@devfac.coloradocollege.edu
SUMMARY:Advance Your Darkroom Skills
DESCRIPTION:You will process your own traditional black and white film and learn to make handcrafted silver-gelatin prints in the darkroom. You will learn advanced techniques such as split-filter printing\, Sabattier printing\, and combination printing to challenge your creativity and bring ideas to new heights. We will work to nurture your creativity\, giving you an opportunity to create a lasting portfolio of handcrafted\, photographic imagery. \nLevel II – This class is for those who have taken at least one class in the medium. Students should be comfortable with the basics of how to use and manipulate the medium. \nAges 16–Adult
URL:https://devfac.coloradocollege.edu/event/advance-your-darkroom-skills/
LOCATION:Bemis School of Art\, 818 Pelham Pl\, Colorado Springs\, CO\, 80903\, United States
CATEGORIES:Art School
ATTACH;FMTTYPE=image/jpeg:https://devfac.coloradocollege.edu/wp-content/uploads/2023/12/darkroom_500.jpg
END:VEVENT
END:VCALENDAR