BEGIN:VCALENDAR
VERSION:2.0
PRODID:-//Fine Arts Center - ECPv6.13.0//NONSGML v1.0//EN
CALSCALE:GREGORIAN
METHOD:PUBLISH
X-WR-CALNAME:Fine Arts Center
X-ORIGINAL-URL:https://devfac.coloradocollege.edu
X-WR-CALDESC:Events for Fine Arts Center
REFRESH-INTERVAL;VALUE=DURATION:PT1H
X-Robots-Tag:noindex
X-PUBLISHED-TTL:PT1H
BEGIN:VTIMEZONE
TZID:America/Denver
BEGIN:DAYLIGHT
TZOFFSETFROM:-0700
TZOFFSETTO:-0600
TZNAME:MDT
DTSTART:20230312T090000
END:DAYLIGHT
BEGIN:STANDARD
TZOFFSETFROM:-0600
TZOFFSETTO:-0700
TZNAME:MST
DTSTART:20231105T080000
END:STANDARD
END:VTIMEZONE
BEGIN:VEVENT
DTSTART;TZID=America/Denver:20230513T173000
DTEND;TZID=America/Denver:20230513T203000
DTSTAMP:20260422T040305
CREATED:20230309T173804Z
LAST-MODIFIED:20230421T192709Z
UID:31533-1683999000-1684009800@devfac.coloradocollege.edu
SUMMARY:Wine and Watercolor
DESCRIPTION:Celebrate creativity at the FAC’s Bemis School of Art! Bring someone special or come alone and make new friends. You don’t have to bring any supplies\, just come prepared for artistic festivities guided by Bemis instructors and your love of fun. You’ll have the opportunity to experience more than one painting activity. One free drink ticket is included with admission\, plus light snacks. Additional wine\, beer and soft drinks will be available for purchase. Happy Half Hour begins at 5:30 p.m. \n$40 ($35 FAC members) \nSpace is limited. Advanced registration required.
URL:https://devfac.coloradocollege.edu/event/wine-and-watercolor/
LOCATION:Bemis School of Art\, 818 Pelham Pl\, Colorado Springs\, CO\, 80903\, United States
CATEGORIES:Art School,Special Event
ATTACH;FMTTYPE=image/jpeg:https://devfac.coloradocollege.edu/wp-content/uploads/2023/03/wine-watercolor.jpg
END:VEVENT
BEGIN:VEVENT
DTSTART;TZID=America/Denver:20230519T170000
DTEND;TZID=America/Denver:20230519T200000
DTSTAMP:20260422T040305
CREATED:20230426T225705Z
LAST-MODIFIED:20230426T225705Z
UID:31851-1684515600-1684526400@devfac.coloradocollege.edu
SUMMARY:Family Friendly Friday
DESCRIPTION:Join us at the FAC’s Bemis School of Art for a tissue paper flower activity for all ages led by instructor Ronee Smith 5–8 p.m.\nPlus\, the bar in Deco Lounge will be open. \nFree and open to the public.
URL:https://devfac.coloradocollege.edu/event/family-friendly-friday/
LOCATION:Fine Arts Center\, 30 W. Dale St.\, Colorado Springs\, CO\, 80903\, United States
CATEGORIES:Art School
ATTACH;FMTTYPE=image/jpeg:https://devfac.coloradocollege.edu/wp-content/uploads/2023/04/family-friendly-friday.jpg
END:VEVENT
END:VCALENDAR