BEGIN:VCALENDAR
VERSION:2.0
PRODID:-//Fine Arts Center - ECPv6.13.0//NONSGML v1.0//EN
CALSCALE:GREGORIAN
METHOD:PUBLISH
X-WR-CALNAME:Fine Arts Center
X-ORIGINAL-URL:https://devfac.coloradocollege.edu
X-WR-CALDESC:Events for Fine Arts Center
REFRESH-INTERVAL;VALUE=DURATION:PT1H
X-Robots-Tag:noindex
X-PUBLISHED-TTL:PT1H
BEGIN:VTIMEZONE
TZID:America/Denver
BEGIN:DAYLIGHT
TZOFFSETFROM:-0700
TZOFFSETTO:-0600
TZNAME:MDT
DTSTART:20230312T090000
END:DAYLIGHT
BEGIN:STANDARD
TZOFFSETFROM:-0600
TZOFFSETTO:-0700
TZNAME:MST
DTSTART:20231105T080000
END:STANDARD
END:VTIMEZONE
BEGIN:VEVENT
DTSTART;VALUE=DATE:20230123
DTEND;VALUE=DATE:20230501
DTSTAMP:20260422T154430
CREATED:20211214T145930Z
LAST-MODIFIED:20221212T221610Z
UID:26848-1674432000-1682899199@devfac.coloradocollege.edu
SUMMARY:Winter/Spring 2023 Art Classes
DESCRIPTION:Pursue new art skills or perfect old ones in 2023! We have art classes for all ages\, interests\, and skill levels
URL:https://devfac.coloradocollege.edu/event/winter-spring-2023-art-classes/
LOCATION:Bemis School of Art\, 818 Pelham Pl\, Colorado Springs\, CO\, 80903\, United States
CATEGORIES:Art School
ATTACH;FMTTYPE=image/jpeg:https://devfac.coloradocollege.edu/wp-content/uploads/2018/01/Bemis_600_4-e1682092751982.jpg
END:VEVENT
BEGIN:VEVENT
DTSTART;TZID=America/Denver:20230124T100000
DTEND;TZID=America/Denver:20230124T130000
DTSTAMP:20260422T154430
CREATED:20230105T223808Z
LAST-MODIFIED:20230105T223808Z
UID:30977-1674554400-1674565200@devfac.coloradocollege.edu
SUMMARY:Cloth\, Paper\, Collage
DESCRIPTION:Explore new and creative collage processes! Work with paint\, pastels\, inks sprays\, and learn how to design with image transfers on a variety of surfaces such as tea bags\, rice paper\, glassine\, deli papers\, and more. With a variety of techniques\, you will be able to create fabric paper and other prepared papers\, either painted or printed. Additionally\, you will discover the historic process of paste paper\, a surface paper design with coloring paste. Then bring all your learnings together by making fabric fusion collages and adhering them to books and canvases. The possibilities are endless! There is a material fee of $63 due to the instructor on the first day of class. \n\nAdults class. Instructor: Barbara Dimond
URL:https://devfac.coloradocollege.edu/event/cloth-paper-collage/
LOCATION:Bemis School of Art\, 818 Pelham Pl\, Colorado Springs\, CO\, 80903\, United States
CATEGORIES:Art School
ATTACH;FMTTYPE=image/jpeg:https://devfac.coloradocollege.edu/wp-content/uploads/2022/12/1080x1080_Cloth-Paper-Collage-e1671667294596.jpg
END:VEVENT
BEGIN:VEVENT
DTSTART;TZID=America/Denver:20230125T161500
DTEND;TZID=America/Denver:20230125T174500
DTSTAMP:20260422T154430
CREATED:20230105T221446Z
LAST-MODIFIED:20230124T174442Z
UID:30970-1674663300-1674668700@devfac.coloradocollege.edu
SUMMARY:Fundamentals of Drawing
DESCRIPTION:This course is a fun way to learn new drawing skills and how to train your eyes to really see. There is no “can’t” in this introduction to drawing course – only “I can!” You will be guided on how to render an object\, bringing depth into your work. Explore how to use color and source of light to make your ideas come to life. Build your confidence in drawing through light homework\, an introduction to color theory\, value scale\, still life studies\, perspective\, composition\, and so much more! Supplies will be provided.\nAges 9-12
URL:https://devfac.coloradocollege.edu/event/fundamentals-of-drawing/
LOCATION:Bemis School of Art\, 818 Pelham Pl\, Colorado Springs\, CO\, 80903\, United States
CATEGORIES:Art School
ATTACH;FMTTYPE=image/jpeg:https://devfac.coloradocollege.edu/wp-content/uploads/2022/12/1080x1080_Fundamentals-of-Drawing-e1671667223435.jpg
END:VEVENT
BEGIN:VEVENT
DTSTART;TZID=America/Denver:20230125T180000
DTEND;TZID=America/Denver:20230125T210000
DTSTAMP:20260422T154430
CREATED:20230105T232413Z
LAST-MODIFIED:20230105T232413Z
UID:30980-1674669600-1674680400@devfac.coloradocollege.edu
SUMMARY:Black & White Film Photography
DESCRIPTION:Step into the darkroom to explore silver-process black-and-white photography. You will learn how to process film and make handcrafted gelatin-silver prints from your negatives while gaining a better understanding of light\, exposure\, composition\, and camera techniques. Expand your creativity and make each assignment a challenge to your artistic vision! \n\nAges 16-Adult. Instructor: Richard Rinker
URL:https://devfac.coloradocollege.edu/event/black-white-film-photography/
LOCATION:Bemis School of Art\, 818 Pelham Pl\, Colorado Springs\, CO\, 80903\, United States
CATEGORIES:Art School
ATTACH;FMTTYPE=image/jpeg:https://devfac.coloradocollege.edu/wp-content/uploads/2022/12/1080x1080_Film-Photography-e1671667235110.jpg
END:VEVENT
BEGIN:VEVENT
DTSTART;TZID=America/Denver:20230128T100000
DTEND;TZID=America/Denver:20230128T120000
DTSTAMP:20260422T154430
CREATED:20230105T221831Z
LAST-MODIFIED:20230124T174345Z
UID:30975-1674900000-1674907200@devfac.coloradocollege.edu
SUMMARY:Drawing Far & Wide: A Course on Perspective
DESCRIPTION:Want to learn how to draw enticing pieces? Join us for this workshop all about perspective! Learn the basics of value\, shape\, line\, and form. Through various exercises\, students will develop a set of perspective and basic drawing skills to create depth in any art piece. Artists with some drawing experience are welcome to join and hone their skills.\nAdult class. Instructor: Sophia Hanna
URL:https://devfac.coloradocollege.edu/event/drawing-far-wide-a-course-on-perspective/
LOCATION:Bemis School of Art\, 818 Pelham Pl\, Colorado Springs\, CO\, 80903\, United States
CATEGORIES:Art School
ATTACH;FMTTYPE=image/jpeg:https://devfac.coloradocollege.edu/wp-content/uploads/2022/12/1080x1080_Drawing-Far-Wide-e1671667248955.jpg
END:VEVENT
BEGIN:VEVENT
DTSTART;TZID=America/Denver:20230128T100000
DTEND;TZID=America/Denver:20230128T140000
DTSTAMP:20260422T154430
CREATED:20230105T203053Z
LAST-MODIFIED:20230105T203053Z
UID:30966-1674900000-1674914400@devfac.coloradocollege.edu
SUMMARY:Painting the Seasons: Winter
DESCRIPTION:Nature is a gold mine of inspiration – what better way to explore its countless variations than by painting the seasons? The winter landscape lends itself to cool shadows and warm sunlit reflections. In this workshop\, we will use a limited palette to simplify color mixing and create a harmonious painting. Attention will be given to creating shapes\, values\, and soft and hard edges for capturing the winter landscape. \nLevel II – This class is for those who have taken at least one class in the medium. Students should be comfortable with the basics of how to use and manipulate the medium. \n\nAges 16-Adult
URL:https://devfac.coloradocollege.edu/event/painting-the-seasons-winter/
LOCATION:Bemis School of Art\, 818 Pelham Pl\, Colorado Springs\, CO\, 80903\, United States
CATEGORIES:Art School
ATTACH;FMTTYPE=image/jpeg:https://devfac.coloradocollege.edu/wp-content/uploads/2022/12/1080x1080_Painting-the-Seasons-e1671667193662.jpg
END:VEVENT
BEGIN:VEVENT
DTSTART;TZID=America/Denver:20230124T100000
DTEND;TZID=America/Denver:20230124T130000
DTSTAMP:20260422T154430
CREATED:20230105T223808Z
LAST-MODIFIED:20230105T223808Z
UID:30977-1674554400-1674565200@devfac.coloradocollege.edu
SUMMARY:Cloth\, Paper\, Collage
DESCRIPTION:Explore new and creative collage processes! Work with paint\, pastels\, inks sprays\, and learn how to design with image transfers on a variety of surfaces such as tea bags\, rice paper\, glassine\, deli papers\, and more. With a variety of techniques\, you will be able to create fabric paper and other prepared papers\, either painted or printed. Additionally\, you will discover the historic process of paste paper\, a surface paper design with coloring paste. Then bring all your learnings together by making fabric fusion collages and adhering them to books and canvases. The possibilities are endless! There is a material fee of $63 due to the instructor on the first day of class. \n\nAdults class. Instructor: Barbara Dimond
URL:https://devfac.coloradocollege.edu/event/cloth-paper-collage/
LOCATION:Bemis School of Art\, 818 Pelham Pl\, Colorado Springs\, CO\, 80903\, United States
CATEGORIES:Art School
ATTACH;FMTTYPE=image/jpeg:https://devfac.coloradocollege.edu/wp-content/uploads/2022/12/1080x1080_Cloth-Paper-Collage-e1671667294596.jpg
END:VEVENT
END:VCALENDAR