BEGIN:VCALENDAR
VERSION:2.0
PRODID:-//Fine Arts Center - ECPv6.13.0//NONSGML v1.0//EN
CALSCALE:GREGORIAN
METHOD:PUBLISH
X-WR-CALNAME:Fine Arts Center
X-ORIGINAL-URL:https://devfac.coloradocollege.edu
X-WR-CALDESC:Events for Fine Arts Center
REFRESH-INTERVAL;VALUE=DURATION:PT1H
X-Robots-Tag:noindex
X-PUBLISHED-TTL:PT1H
BEGIN:VTIMEZONE
TZID:America/Denver
BEGIN:DAYLIGHT
TZOFFSETFROM:-0700
TZOFFSETTO:-0600
TZNAME:MDT
DTSTART:20220313T090000
END:DAYLIGHT
BEGIN:STANDARD
TZOFFSETFROM:-0600
TZOFFSETTO:-0700
TZNAME:MST
DTSTART:20221106T080000
END:STANDARD
END:VTIMEZONE
BEGIN:VEVENT
DTSTART;TZID=America/Denver:20220305T100000
DTEND;TZID=America/Denver:20220305T130000
DTSTAMP:20260423T171351
CREATED:20220110T192515Z
LAST-MODIFIED:20220110T192515Z
UID:27343-1646474400-1646485200@devfac.coloradocollege.edu
SUMMARY:Group Painting Reviews
DESCRIPTION:Are you curious whether the paintings you are creating are “good?” Feedback from others who are not artists may not be helpful. How do you judge your own work objectively? This class will offer you an opportunity to learn about your work and the work of others in a supportive and educational group format. Dena has been a judge and juror for several local and national art shows. Bring in your work and let her help you make it stronger! \nLevel II – This class is for those who have taken at least one class in the medium. Student should be comfortable with the basics of how to use and manipulate the medium.
URL:https://devfac.coloradocollege.edu/event/group-painting-reviews/
LOCATION:Bemis School of Art\, 818 Pelham Pl\, Colorado Springs\, CO\, 80903\, United States
CATEGORIES:Art School
ATTACH;FMTTYPE=image/jpeg:https://devfac.coloradocollege.edu/wp-content/uploads/2022/01/A18-and-A19-Group-Painting-Reviews-scaled-e1641842660971.jpg
END:VEVENT
BEGIN:VEVENT
DTSTART;TZID=America/Denver:20220125T090000
DTEND;TZID=America/Denver:20220125T120000
DTSTAMP:20260423T171351
CREATED:20211220T045734Z
LAST-MODIFIED:20220121T233558Z
UID:26953-1643101200-1643112000@devfac.coloradocollege.edu
SUMMARY:Crystalline Glazes
DESCRIPTION:Learn how to properly make\, apply\, and fire crystalline glaze while discovering the most attractive forms for these spectacular glazes. This is a fantastic opportunity to advance your knowledge of glazing in general and produce beautiful pieces of pottery. Supplies will be provided. \nLevel III – This class is for those who have significant experience in the medium — two or more classes or a year or more of experience.
URL:https://devfac.coloradocollege.edu/event/crystalline-glazes/
LOCATION:Bemis School of Art\, 818 Pelham Pl\, Colorado Springs\, CO\, 80903\, United States
CATEGORIES:Art School
ATTACH;FMTTYPE=image/jpeg:https://devfac.coloradocollege.edu/wp-content/uploads/2021/12/imageedit_28_2364229873-2.jpg
END:VEVENT
BEGIN:VEVENT
DTSTART;TZID=America/Denver:20220302T160000
DTEND;TZID=America/Denver:20220302T180000
DTSTAMP:20260423T171351
CREATED:20220110T191731Z
LAST-MODIFIED:20220110T191731Z
UID:27325-1646236800-1646244000@devfac.coloradocollege.edu
SUMMARY:The Story of Me. Told by Me!
DESCRIPTION:We are the protagonists of our own stories. We see and interact with the world from our own point of view. By using cameras to show others how we interact with what we see\, we can tell stories that allow us to foster a greater human connection with ourselves and the other people in our communities. Supplies will be provided. \n\nAges 9-12
URL:https://devfac.coloradocollege.edu/event/the-story-of-me-told-by-me/
LOCATION:Bemis School of Art\, 818 Pelham Pl\, Colorado Springs\, CO\, 80903\, United States
CATEGORIES:Art School
ATTACH;FMTTYPE=image/jpeg:https://devfac.coloradocollege.edu/wp-content/uploads/2022/01/Y17-The-Story-of-Me.-Told-by-Me-e1641842176834.jpg
END:VEVENT
BEGIN:VEVENT
DTSTART;TZID=America/Denver:20220302T180000
DTEND;TZID=America/Denver:20220302T210000
DTSTAMP:20260423T171351
CREATED:20220110T192147Z
LAST-MODIFIED:20220120T221122Z
UID:27333-1646244000-1646254800@devfac.coloradocollege.edu
SUMMARY:Thrown and Altered Ceramics
DESCRIPTION:Throwing on the potter’s wheel and handbuilding combined into one fun class to make unique work! Use the pottery wheel to make while learning new techniques to alter your work with molds\, sprigs\, texturing\, and hand forming\, along with other methods. \nLevel 0 – This class is for the true beginner with no prior experience in the medium.
URL:https://devfac.coloradocollege.edu/event/thrown-and-altered-ceramics/
LOCATION:Bemis School of Art\, 818 Pelham Pl\, Colorado Springs\, CO\, 80903\, United States
CATEGORIES:Art School
ATTACH;FMTTYPE=image/jpeg:https://devfac.coloradocollege.edu/wp-content/uploads/2022/01/Thrown-and-Altered-Ceramics.jpg
END:VEVENT
BEGIN:VEVENT
DTSTART;TZID=America/Denver:20220311T100000
DTEND;TZID=America/Denver:20220311T130000
DTSTAMP:20260423T171351
CREATED:20220110T192711Z
LAST-MODIFIED:20220110T192711Z
UID:27347-1646992800-1647003600@devfac.coloradocollege.edu
SUMMARY:Tantalizing Textured Mugs
DESCRIPTION:Practice slab construction to hand build tantalizing mugs from textured clay slabs. Build mugs that have three or four feet\, or build four-sided full-bodied forms using fold-up flat patterns. You will not be able to resist filling your mugs with your favorite beverage! \nLevel 0 – This class is for the true beginner with no prior experience in the medium \nSemi-private – limit 5 students
URL:https://devfac.coloradocollege.edu/event/tantalizing-textured-mugs-2/
LOCATION:Bemis School of Art\, 818 Pelham Pl\, Colorado Springs\, CO\, 80903\, United States
CATEGORIES:Art School
ATTACH;FMTTYPE=image/jpeg:https://devfac.coloradocollege.edu/wp-content/uploads/2021/08/Image-Tantalizing-Textured-Mugs500.jpeg
END:VEVENT
BEGIN:VEVENT
DTSTART;TZID=America/Denver:20220302T160000
DTEND;TZID=America/Denver:20220302T180000
DTSTAMP:20260423T171351
CREATED:20220110T191731Z
LAST-MODIFIED:20220110T191731Z
UID:27325-1646236800-1646244000@devfac.coloradocollege.edu
SUMMARY:The Story of Me. Told by Me!
DESCRIPTION:We are the protagonists of our own stories. We see and interact with the world from our own point of view. By using cameras to show others how we interact with what we see\, we can tell stories that allow us to foster a greater human connection with ourselves and the other people in our communities. Supplies will be provided. \n\nAges 9-12
URL:https://devfac.coloradocollege.edu/event/the-story-of-me-told-by-me/
LOCATION:Bemis School of Art\, 818 Pelham Pl\, Colorado Springs\, CO\, 80903\, United States
CATEGORIES:Art School
ATTACH;FMTTYPE=image/jpeg:https://devfac.coloradocollege.edu/wp-content/uploads/2022/01/Y17-The-Story-of-Me.-Told-by-Me-e1641842176834.jpg
END:VEVENT
BEGIN:VEVENT
DTSTART;TZID=America/Denver:20220302T180000
DTEND;TZID=America/Denver:20220302T210000
DTSTAMP:20260423T171351
CREATED:20220110T192147Z
LAST-MODIFIED:20220120T221122Z
UID:27333-1646244000-1646254800@devfac.coloradocollege.edu
SUMMARY:Thrown and Altered Ceramics
DESCRIPTION:Throwing on the potter’s wheel and handbuilding combined into one fun class to make unique work! Use the pottery wheel to make while learning new techniques to alter your work with molds\, sprigs\, texturing\, and hand forming\, along with other methods. \nLevel 0 – This class is for the true beginner with no prior experience in the medium.
URL:https://devfac.coloradocollege.edu/event/thrown-and-altered-ceramics/
LOCATION:Bemis School of Art\, 818 Pelham Pl\, Colorado Springs\, CO\, 80903\, United States
CATEGORIES:Art School
ATTACH;FMTTYPE=image/jpeg:https://devfac.coloradocollege.edu/wp-content/uploads/2022/01/Thrown-and-Altered-Ceramics.jpg
END:VEVENT
BEGIN:VEVENT
DTSTART;TZID=America/Denver:20220311T100000
DTEND;TZID=America/Denver:20220311T130000
DTSTAMP:20260423T171351
CREATED:20220110T192711Z
LAST-MODIFIED:20220110T192711Z
UID:27347-1646992800-1647003600@devfac.coloradocollege.edu
SUMMARY:Tantalizing Textured Mugs
DESCRIPTION:Practice slab construction to hand build tantalizing mugs from textured clay slabs. Build mugs that have three or four feet\, or build four-sided full-bodied forms using fold-up flat patterns. You will not be able to resist filling your mugs with your favorite beverage! \nLevel 0 – This class is for the true beginner with no prior experience in the medium \nSemi-private – limit 5 students
URL:https://devfac.coloradocollege.edu/event/tantalizing-textured-mugs-2/
LOCATION:Bemis School of Art\, 818 Pelham Pl\, Colorado Springs\, CO\, 80903\, United States
CATEGORIES:Art School
ATTACH;FMTTYPE=image/jpeg:https://devfac.coloradocollege.edu/wp-content/uploads/2021/08/Image-Tantalizing-Textured-Mugs500.jpeg
END:VEVENT
BEGIN:VEVENT
DTSTART;TZID=America/Denver:20220129T100000
DTEND;TZID=America/Denver:20220129T130000
DTSTAMP:20260423T171351
CREATED:20220110T190235Z
LAST-MODIFIED:20220110T190235Z
UID:27295-1643450400-1643461200@devfac.coloradocollege.edu
SUMMARY:Handbuilding in Clay
DESCRIPTION:This exciting workshop will focus on the techniques of handbuilding to communicate your style. Build what you want and learn how to transform a malleable ball of clay into a piece you love. This course demonstrates different building techniques and how to finish your work with glazing. \nLevel 0 – This class is for the true beginner with no prior experience in the medium.
URL:https://devfac.coloradocollege.edu/event/handbuilding-in-clay/
LOCATION:Bemis School of Art\, 818 Pelham Pl\, Colorado Springs\, CO\, 80903\, United States
CATEGORIES:Art School
ATTACH;FMTTYPE=image/jpeg:https://devfac.coloradocollege.edu/wp-content/uploads/2021/08/Image-Handbuilding-in-Clay-II500.jpg
END:VEVENT
BEGIN:VEVENT
DTSTART;TZID=America/Denver:20220129T100000
DTEND;TZID=America/Denver:20220129T130000
DTSTAMP:20260423T171351
CREATED:20220110T190235Z
LAST-MODIFIED:20220110T190235Z
UID:27295-1643450400-1643461200@devfac.coloradocollege.edu
SUMMARY:Handbuilding in Clay
DESCRIPTION:This exciting workshop will focus on the techniques of handbuilding to communicate your style. Build what you want and learn how to transform a malleable ball of clay into a piece you love. This course demonstrates different building techniques and how to finish your work with glazing. \nLevel 0 – This class is for the true beginner with no prior experience in the medium.
URL:https://devfac.coloradocollege.edu/event/handbuilding-in-clay/
LOCATION:Bemis School of Art\, 818 Pelham Pl\, Colorado Springs\, CO\, 80903\, United States
CATEGORIES:Art School
ATTACH;FMTTYPE=image/jpeg:https://devfac.coloradocollege.edu/wp-content/uploads/2021/08/Image-Handbuilding-in-Clay-II500.jpg
END:VEVENT
BEGIN:VEVENT
DTSTART;TZID=America/Denver:20220219T133000
DTEND;TZID=America/Denver:20220219T153000
DTSTAMP:20260423T171351
CREATED:20220110T191304Z
LAST-MODIFIED:20220110T191304Z
UID:27314-1645277400-1645284600@devfac.coloradocollege.edu
SUMMARY:Watercolor Mountain Landscape and Techniques
DESCRIPTION:Discover new watercolor techniques and try something new! In this class\, we will examine the art style of contemporary artist Jen Aranyi\, practice drawing a simple\, abstract mountain range\, then outline it with black Sharpies\, and finish the sky with watercolors to create a galaxy-like effect. We will discuss diverse ways to finish the foreground (in front of the mountains\, such as trees\, a river\, a camping scene\, etc.). Supplies will be provided. \nAges 12-16
URL:https://devfac.coloradocollege.edu/event/watercolor-mountain-landscape-and-techniques/
LOCATION:Bemis School of Art\, 818 Pelham Pl\, Colorado Springs\, CO\, 80903\, United States
CATEGORIES:Art School
ATTACH;FMTTYPE=image/jpeg:https://devfac.coloradocollege.edu/wp-content/uploads/2022/01/Y13-Y19-and-Y20-Watercolor-Mountain-Landscape-and-Techniques-e1641841793923.jpg
END:VEVENT
BEGIN:VEVENT
DTSTART;TZID=America/Denver:20220129T100000
DTEND;TZID=America/Denver:20220129T130000
DTSTAMP:20260423T171351
CREATED:20220110T190235Z
LAST-MODIFIED:20220110T190235Z
UID:27295-1643450400-1643461200@devfac.coloradocollege.edu
SUMMARY:Handbuilding in Clay
DESCRIPTION:This exciting workshop will focus on the techniques of handbuilding to communicate your style. Build what you want and learn how to transform a malleable ball of clay into a piece you love. This course demonstrates different building techniques and how to finish your work with glazing. \nLevel 0 – This class is for the true beginner with no prior experience in the medium.
URL:https://devfac.coloradocollege.edu/event/handbuilding-in-clay/
LOCATION:Bemis School of Art\, 818 Pelham Pl\, Colorado Springs\, CO\, 80903\, United States
CATEGORIES:Art School
ATTACH;FMTTYPE=image/jpeg:https://devfac.coloradocollege.edu/wp-content/uploads/2021/08/Image-Handbuilding-in-Clay-II500.jpg
END:VEVENT
BEGIN:VEVENT
DTSTART;TZID=America/Denver:20220219T133000
DTEND;TZID=America/Denver:20220219T153000
DTSTAMP:20260423T171351
CREATED:20220110T191304Z
LAST-MODIFIED:20220110T191304Z
UID:27314-1645277400-1645284600@devfac.coloradocollege.edu
SUMMARY:Watercolor Mountain Landscape and Techniques
DESCRIPTION:Discover new watercolor techniques and try something new! In this class\, we will examine the art style of contemporary artist Jen Aranyi\, practice drawing a simple\, abstract mountain range\, then outline it with black Sharpies\, and finish the sky with watercolors to create a galaxy-like effect. We will discuss diverse ways to finish the foreground (in front of the mountains\, such as trees\, a river\, a camping scene\, etc.). Supplies will be provided. \nAges 12-16
URL:https://devfac.coloradocollege.edu/event/watercolor-mountain-landscape-and-techniques/
LOCATION:Bemis School of Art\, 818 Pelham Pl\, Colorado Springs\, CO\, 80903\, United States
CATEGORIES:Art School
ATTACH;FMTTYPE=image/jpeg:https://devfac.coloradocollege.edu/wp-content/uploads/2022/01/Y13-Y19-and-Y20-Watercolor-Mountain-Landscape-and-Techniques-e1641841793923.jpg
END:VEVENT
END:VCALENDAR