BEGIN:VCALENDAR
VERSION:2.0
PRODID:-//Fine Arts Center - ECPv6.13.0//NONSGML v1.0//EN
CALSCALE:GREGORIAN
METHOD:PUBLISH
X-WR-CALNAME:Fine Arts Center
X-ORIGINAL-URL:https://devfac.coloradocollege.edu
X-WR-CALDESC:Events for Fine Arts Center
REFRESH-INTERVAL;VALUE=DURATION:PT1H
X-Robots-Tag:noindex
X-PUBLISHED-TTL:PT1H
BEGIN:VTIMEZONE
TZID:America/Denver
BEGIN:DAYLIGHT
TZOFFSETFROM:-0700
TZOFFSETTO:-0600
TZNAME:MDT
DTSTART:20210314T090000
END:DAYLIGHT
BEGIN:STANDARD
TZOFFSETFROM:-0600
TZOFFSETTO:-0700
TZNAME:MST
DTSTART:20211107T080000
END:STANDARD
END:VTIMEZONE
BEGIN:VEVENT
DTSTART;TZID=America/Denver:20210615T173000
DTEND;TZID=America/Denver:20210615T190000
DTSTAMP:20260424T031354
CREATED:20210510T203327Z
LAST-MODIFIED:20210510T203327Z
UID:23766-1623778200-1623783600@devfac.coloradocollege.edu
SUMMARY:Virtual: Military Artistic Healing
DESCRIPTION:Discover techniques to inspire creative skills and gain greater self-awareness. Explore artistic possibilities\, develop your creativity\, and gain personal insight through working with a variety of controllable mediums. This course includes live Zoom class sessions. Supply list online. Adult Please note\, this class is only open to active duty military and veterans. An active duty\, retiree ID\, or DD-214 must be presented in order to participate. \nInstructor: Kim Nguyen
URL:https://devfac.coloradocollege.edu/event/virtual-military-artistic-healing-3/
LOCATION:Virtual
CATEGORIES:Art School
ATTACH;FMTTYPE=image/jpeg:https://devfac.coloradocollege.edu/wp-content/uploads/2021/05/Military-Artistic-Healing-Nguyen-Kim500.jpg
END:VEVENT
BEGIN:VEVENT
DTSTART;TZID=America/Denver:20210805T090000
DTEND;TZID=America/Denver:20210805T120000
DTSTAMP:20260424T031354
CREATED:20210510T203155Z
LAST-MODIFIED:20210617T230905Z
UID:23691-1628154000-1628164800@devfac.coloradocollege.edu
SUMMARY:Refine Your Black and White Darkroom Printing Skills
DESCRIPTION:Spend three hours learning to refine your black and white darkroom printing skills with private instruction in contrast filters\, split-filter printing\, cropping\, and positioning for artful presentations. This darkroom experience will help you bring your printing skills to the next level and encourage you to produce prints that you will be excited to enter in local photography exhibitions. Supply list online. Maximum number of students from the same household: 2. Adult \nInstructor: Angela Crews
URL:https://devfac.coloradocollege.edu/event/refine-your-black-and-white-darkroom-printing-skills/
LOCATION:Bemis School of Art\, 818 Pelham Pl\, Colorado Springs\, CO\, 80903\, United States
CATEGORIES:Art School
ATTACH;FMTTYPE=image/jpeg:https://devfac.coloradocollege.edu/wp-content/uploads/2021/05/Refine-Your-BW-Darkroom-Printing-Skills-Crews-Angela500.jpg
END:VEVENT
BEGIN:VEVENT
DTSTART;TZID=America/Denver:20210618T100000
DTEND;TZID=America/Denver:20210618T110000
DTSTAMP:20260424T031354
CREATED:20210510T171557Z
LAST-MODIFIED:20210510T171557Z
UID:23769-1624010400-1624014000@devfac.coloradocollege.edu
SUMMARY:Virtual: Dena’s Art Dialogues
DESCRIPTION:Prerequisite: Completion of at least one previous course offered by Dena Peterson. \nIf you are a previous student of Dena Peterson’s\, you are invited to meet with her and other past students for an in-depth discussion of a variety of topics related to painting. Explore different themes each month based on students’ interests. Together\, the class will investigate a wide variety of art\, engage in lively discussion\, and navigate new ideas. In addition to dynamic discussions\, this course features live demonstrations and painting critiques. This will be a safe and fun group in which to grow as an artist! This course includes live Zoom class sessions. Adult class. \nInstructor: Dena Peterson
URL:https://devfac.coloradocollege.edu/event/virtual-denas-art-dialogues/
LOCATION:Virtual
CATEGORIES:Art School
ATTACH;FMTTYPE=image/jpeg:https://devfac.coloradocollege.edu/wp-content/uploads/2021/05/Denas-Art-Dialogues-Peterson-Dena500.jpg
END:VEVENT
BEGIN:VEVENT
DTSTART;TZID=America/Denver:20210716T100000
DTEND;TZID=America/Denver:20210716T130000
DTSTAMP:20260424T031354
CREATED:20210510T202838Z
LAST-MODIFIED:20210608T040419Z
UID:23731-1626429600-1626440400@devfac.coloradocollege.edu
SUMMARY:Whimsical Lidded Boxes
DESCRIPTION:Enjoy this unique\, semiprivate studio experience. Learn slab construction and glazing techniques to handbuild whimsical lidded boxes from textured clay slabs. Move from flat to free-standing using simple measurements and flat patterns. The boxes you build can be further embellished with decorative elements made from slabs\, coils\, and pinched shapes. These lidded boxes are pure joyful\, self-expressive whimsy! Supply list online. Maximum number of students from the same household: 4. Ages 16-Adult \nInstructor: Rui Haagen
URL:https://devfac.coloradocollege.edu/event/whimsical-lidded-boxes/
LOCATION:Bemis School of Art\, 818 Pelham Pl\, Colorado Springs\, CO\, 80903\, United States
CATEGORIES:Art School
ATTACH;FMTTYPE=image/jpeg:https://devfac.coloradocollege.edu/wp-content/uploads/2021/05/Whimsical-Lidded-Boxes-Haagen-Rui500.jpg
END:VEVENT
BEGIN:VEVENT
DTSTART;TZID=America/Denver:20210807T100000
DTEND;TZID=America/Denver:20210807T130000
DTSTAMP:20260424T031354
CREATED:20210510T171421Z
LAST-MODIFIED:20210510T171421Z
UID:23753-1628330400-1628341200@devfac.coloradocollege.edu
SUMMARY:Handbuilding at Large
DESCRIPTION:In this ceramics workshop\, we will investigate different techniques for building large-scale ceramic ware using molds\, slabs\, and coils. Impress yourself by creating something you’ve always dreamed of making! Supply list online. Maximum number of students from the same household: 5. Adult class. \nInstructor: Cara McKinley
URL:https://devfac.coloradocollege.edu/event/handbuilding-at-large/
LOCATION:Bemis School of Art\, 818 Pelham Pl\, Colorado Springs\, CO\, 80903\, United States
CATEGORIES:Art School
ATTACH;FMTTYPE=image/jpeg:https://devfac.coloradocollege.edu/wp-content/uploads/2021/05/Handbuilding-at-Large-Mckinley-Cara500.jpg
END:VEVENT
BEGIN:VEVENT
DTSTART;TZID=America/Denver:20210708T093000
DTEND;TZID=America/Denver:20210708T120000
DTSTAMP:20260424T031354
CREATED:20210510T182509Z
LAST-MODIFIED:20210608T040312Z
UID:23706-1625736600-1625745600@devfac.coloradocollege.edu
SUMMARY:Plates\, Platters\, & Tumblers
DESCRIPTION:Working from templates\, we will handbuild and decorate a plate and tumbler. Slab rolled clay will be transformed into functional ware that is fun and useful! After your pieces have been fired once\, they will be decorated with underglaze decals to reflect your own personal artistic statement. Colors\, patterns\, and designs\nare determined by each individual. Join the fun\, learn a new decorating technique\, and make some clay art! There is a $5 material fee per person payable to the instructor for underglazes on the first day of class. Supply list online. Maximum number of students from the same household: 5. Ages 16-Adult \nInstructor: Maggie Quinn
URL:https://devfac.coloradocollege.edu/event/plates-platters-tumblers/
LOCATION:Bemis School of Art\, 818 Pelham Pl\, Colorado Springs\, CO\, 80903\, United States
CATEGORIES:Art School
ATTACH;FMTTYPE=image/jpeg:https://devfac.coloradocollege.edu/wp-content/uploads/2021/05/Plates-Patterns-Tumblers-Quinn-Maggie500.jpeg
END:VEVENT
BEGIN:VEVENT
DTSTART;TZID=America/Denver:20210812T123000
DTEND;TZID=America/Denver:20210812T150000
DTSTAMP:20260424T031354
CREATED:20210510T181844Z
LAST-MODIFIED:20210608T040807Z
UID:23711-1628771400-1628780400@devfac.coloradocollege.edu
SUMMARY:Drink Up! Cups\, Mugs\, & More
DESCRIPTION:Using templates\, the slab roller\, and extruded clay slabs\, you will learn different handbuilding practices to make drinking vessels. Once built\, we will explore different techniques for staining and glazing your\npieces to finish your completed drinking vessels—drink up! Supply list online. Maximum number of students from the same household: 5. Ages 16–Adult \nInstructor: Maggie Quinn
URL:https://devfac.coloradocollege.edu/event/drink-up-cups-mugs-more/
LOCATION:Bemis School of Art\, 818 Pelham Pl\, Colorado Springs\, CO\, 80903\, United States
CATEGORIES:Art School
ATTACH;FMTTYPE=image/jpeg:https://devfac.coloradocollege.edu/wp-content/uploads/2021/05/Drink-Up-Cups-Mugs-More-Quinn-Maggie500.jpeg
END:VEVENT
BEGIN:VEVENT
DTSTART;TZID=America/Denver:20210618T100000
DTEND;TZID=America/Denver:20210618T110000
DTSTAMP:20260424T031354
CREATED:20210510T171557Z
LAST-MODIFIED:20210510T171557Z
UID:23769-1624010400-1624014000@devfac.coloradocollege.edu
SUMMARY:Virtual: Dena’s Art Dialogues
DESCRIPTION:Prerequisite: Completion of at least one previous course offered by Dena Peterson. \nIf you are a previous student of Dena Peterson’s\, you are invited to meet with her and other past students for an in-depth discussion of a variety of topics related to painting. Explore different themes each month based on students’ interests. Together\, the class will investigate a wide variety of art\, engage in lively discussion\, and navigate new ideas. In addition to dynamic discussions\, this course features live demonstrations and painting critiques. This will be a safe and fun group in which to grow as an artist! This course includes live Zoom class sessions. Adult class. \nInstructor: Dena Peterson
URL:https://devfac.coloradocollege.edu/event/virtual-denas-art-dialogues/
LOCATION:Virtual
CATEGORIES:Art School
ATTACH;FMTTYPE=image/jpeg:https://devfac.coloradocollege.edu/wp-content/uploads/2021/05/Denas-Art-Dialogues-Peterson-Dena500.jpg
END:VEVENT
BEGIN:VEVENT
DTSTART;TZID=America/Denver:20210723T100000
DTEND;TZID=America/Denver:20210723T130000
DTSTAMP:20260424T031354
CREATED:20210510T180708Z
LAST-MODIFIED:20210621T160153Z
UID:23716-1627034400-1627045200@devfac.coloradocollege.edu
SUMMARY:Tantalizing Textured Mugs
DESCRIPTION:Take advantage of this unique opportunity for a mindful\, semiprivate studio experience. Learn slab construction and glazing techniques to handbuild two tantalizing mugs from textured clay slabs. Move from flat to free-standing using simple measurements and flat patterns. Build mugs that are round\, oval\, three or four footed\, or darted with pedestals. You won’t be able to resist filling your mugs with your favorite beverage! Supply list online. Maximum number of students from the same household: 4. Ages 16–Adult \nInstructor: Rui Haagen
URL:https://devfac.coloradocollege.edu/event/tantalizing-textured-mugs/
LOCATION:Bemis School of Art\, 818 Pelham Pl\, Colorado Springs\, CO\, 80903\, United States
CATEGORIES:Art School
ATTACH;FMTTYPE=image/jpeg:https://devfac.coloradocollege.edu/wp-content/uploads/2021/05/Tanatalizing-Textured-Mugs-Haagen-Rui500.jpg
END:VEVENT
BEGIN:VEVENT
DTSTART;TZID=America/Denver:20210618T100000
DTEND;TZID=America/Denver:20210618T110000
DTSTAMP:20260424T031354
CREATED:20210510T171557Z
LAST-MODIFIED:20210510T171557Z
UID:23769-1624010400-1624014000@devfac.coloradocollege.edu
SUMMARY:Virtual: Dena’s Art Dialogues
DESCRIPTION:Prerequisite: Completion of at least one previous course offered by Dena Peterson. \nIf you are a previous student of Dena Peterson’s\, you are invited to meet with her and other past students for an in-depth discussion of a variety of topics related to painting. Explore different themes each month based on students’ interests. Together\, the class will investigate a wide variety of art\, engage in lively discussion\, and navigate new ideas. In addition to dynamic discussions\, this course features live demonstrations and painting critiques. This will be a safe and fun group in which to grow as an artist! This course includes live Zoom class sessions. Adult class. \nInstructor: Dena Peterson
URL:https://devfac.coloradocollege.edu/event/virtual-denas-art-dialogues/
LOCATION:Virtual
CATEGORIES:Art School
ATTACH;FMTTYPE=image/jpeg:https://devfac.coloradocollege.edu/wp-content/uploads/2021/05/Denas-Art-Dialogues-Peterson-Dena500.jpg
END:VEVENT
BEGIN:VEVENT
DTSTART;TZID=America/Denver:20210730T100000
DTEND;TZID=America/Denver:20210730T130000
DTSTAMP:20260424T031354
CREATED:20210510T170536Z
LAST-MODIFIED:20210617T200957Z
UID:23722-1627639200-1627650000@devfac.coloradocollege.edu
SUMMARY:Pleasing Pitchers
DESCRIPTION:Seize this opportunity to engage in a mindful\, semiprivate studio experience. Learn slab construction and glazing techniques to handbuild a pleasing large\, medium\, or small pitcher from textured clay slabs. Move from flat to freestanding using simple measurements and flat patterns. Add coiled decorations\, pinched flowers\,\nor animal forms to your pitcher bodies\, handles\, and spouts. Wow your friends with your pleasing pitcher! Supply list online. Maximum number of students from the same household: 4. Ages 16–Adult \nInstructor: Rui Haagen
URL:https://devfac.coloradocollege.edu/event/pleasing-pitchers/
LOCATION:Bemis School of Art\, 818 Pelham Pl\, Colorado Springs\, CO\, 80903\, United States
CATEGORIES:Art School
ATTACH;FMTTYPE=image/jpeg:https://devfac.coloradocollege.edu/wp-content/uploads/2021/02/pleasing-pitchers.jpg
END:VEVENT
BEGIN:VEVENT
DTSTART;TZID=America/Denver:20210807T100000
DTEND;TZID=America/Denver:20210807T130000
DTSTAMP:20260424T031354
CREATED:20210510T171421Z
LAST-MODIFIED:20210510T171421Z
UID:23753-1628330400-1628341200@devfac.coloradocollege.edu
SUMMARY:Handbuilding at Large
DESCRIPTION:In this ceramics workshop\, we will investigate different techniques for building large-scale ceramic ware using molds\, slabs\, and coils. Impress yourself by creating something you’ve always dreamed of making! Supply list online. Maximum number of students from the same household: 5. Adult class. \nInstructor: Cara McKinley
URL:https://devfac.coloradocollege.edu/event/handbuilding-at-large/
LOCATION:Bemis School of Art\, 818 Pelham Pl\, Colorado Springs\, CO\, 80903\, United States
CATEGORIES:Art School
ATTACH;FMTTYPE=image/jpeg:https://devfac.coloradocollege.edu/wp-content/uploads/2021/05/Handbuilding-at-Large-Mckinley-Cara500.jpg
END:VEVENT
END:VCALENDAR