BEGIN:VCALENDAR
VERSION:2.0
PRODID:-//Fine Arts Center - ECPv6.13.0//NONSGML v1.0//EN
CALSCALE:GREGORIAN
METHOD:PUBLISH
X-WR-CALNAME:Fine Arts Center
X-ORIGINAL-URL:https://devfac.coloradocollege.edu
X-WR-CALDESC:Events for Fine Arts Center
REFRESH-INTERVAL;VALUE=DURATION:PT1H
X-Robots-Tag:noindex
X-PUBLISHED-TTL:PT1H
BEGIN:VTIMEZONE
TZID:America/Denver
BEGIN:DAYLIGHT
TZOFFSETFROM:-0700
TZOFFSETTO:-0600
TZNAME:MDT
DTSTART:20210314T090000
END:DAYLIGHT
BEGIN:STANDARD
TZOFFSETFROM:-0600
TZOFFSETTO:-0700
TZNAME:MST
DTSTART:20211107T080000
END:STANDARD
END:VTIMEZONE
BEGIN:VEVENT
DTSTART;TZID=America/Denver:20210304T090000
DTEND;TZID=America/Denver:20210304T120000
DTSTAMP:20260424T153156
CREATED:20210223T230203Z
LAST-MODIFIED:20210223T230203Z
UID:22689-1614848400-1614859200@devfac.coloradocollege.edu
SUMMARY:Handbuilding in Clay I
DESCRIPTION:In this virtual course for adults\, we will be together from afar as we connect through the experience of ceramics. This beginner’s guide to handbuilding clay features a series of personalized prerecorded video demonstrations\, exciting Zoom presentations\, and fun class exercises. Traditional and not-so-traditional building\, texturing\, and glazing techniques will be covered\, while celebrating individual style and interests. This course includes live Zoom class sessions and prerecorded content. A detailed and strict drop-off for firing procedure\, complete with size\, weight\, and amount limits will be provided by the instructor. This is a 5-week class.
URL:https://devfac.coloradocollege.edu/event/handbuilding-in-clay-i/
LOCATION:Virtual
CATEGORIES:Art School
ATTACH;FMTTYPE=image/jpeg:https://devfac.coloradocollege.edu/wp-content/uploads/2020/11/Hand-Building-in-Clay.jpg
END:VEVENT
BEGIN:VEVENT
DTSTART;TZID=America/Denver:20210305T183000
DTEND;TZID=America/Denver:20210305T200000
DTSTAMP:20260424T153156
CREATED:20210223T210524Z
LAST-MODIFIED:20210223T235605Z
UID:22631-1614969000-1614974400@devfac.coloradocollege.edu
SUMMARY:Beginning Colored Pencil
DESCRIPTION:Adult 6 week class. Bring a whole new light to your art with various colored pencil techniques. Enhance your artistic style and express your creative voice with vibrant color. We will explore color theory\, color blending\, and other methods to advance your way of thinking in color. Still life studies will be investigated to understand depth\, light\, texture\, and much more. This virtual course includes live Zoom class sessions and live Zoom studio hours.
URL:https://devfac.coloradocollege.edu/event/beginning-colored-pencil-2/
LOCATION:Virtual
CATEGORIES:Art School
ATTACH;FMTTYPE=image/jpeg:https://devfac.coloradocollege.edu/wp-content/uploads/2020/09/Beginning-Colored-Pencil.jpg
END:VEVENT
BEGIN:VEVENT
DTSTART;TZID=America/Denver:20210304T090000
DTEND;TZID=America/Denver:20210304T120000
DTSTAMP:20260424T153156
CREATED:20210223T230203Z
LAST-MODIFIED:20210223T230203Z
UID:22689-1614848400-1614859200@devfac.coloradocollege.edu
SUMMARY:Handbuilding in Clay I
DESCRIPTION:In this virtual course for adults\, we will be together from afar as we connect through the experience of ceramics. This beginner’s guide to handbuilding clay features a series of personalized prerecorded video demonstrations\, exciting Zoom presentations\, and fun class exercises. Traditional and not-so-traditional building\, texturing\, and glazing techniques will be covered\, while celebrating individual style and interests. This course includes live Zoom class sessions and prerecorded content. A detailed and strict drop-off for firing procedure\, complete with size\, weight\, and amount limits will be provided by the instructor. This is a 5-week class.
URL:https://devfac.coloradocollege.edu/event/handbuilding-in-clay-i/
LOCATION:Virtual
CATEGORIES:Art School
ATTACH;FMTTYPE=image/jpeg:https://devfac.coloradocollege.edu/wp-content/uploads/2020/11/Hand-Building-in-Clay.jpg
END:VEVENT
BEGIN:VEVENT
DTSTART;TZID=America/Denver:20210311T170000
DTEND;TZID=America/Denver:20210311T190000
DTSTAMP:20260424T153156
CREATED:20210223T230608Z
LAST-MODIFIED:20210223T230608Z
UID:22692-1615482000-1615489200@devfac.coloradocollege.edu
SUMMARY:Ceramic Plaque Making
DESCRIPTION:6-week adult course. This virtual course focuses on plaque tile making through a series of personalized prerecorded video demonstrations\, exciting Zoom presentations\, and fun class interactions to celebrate the techniques of building in clay. Texturing\, slip decoration\, glazing techniques\, and how to work from a photo reference will be covered. This process can be done by anyone anywhere\, from outside in a park to the kitchen counter. This course includes live Zoom class sessions and prerecorded content. A detailed and strict drop-off for firing procedure\, complete with size\, weight\, and amount limits will be provided by the instructor. Please see the supply list below for details on clay and glaze kit pickup information.
URL:https://devfac.coloradocollege.edu/event/ceramic-plaque-making/
LOCATION:Virtual
CATEGORIES:Art School
ATTACH;FMTTYPE=image/jpeg:https://devfac.coloradocollege.edu/wp-content/uploads/2020/11/Ceramic-Plaque-Making.jpg
END:VEVENT
BEGIN:VEVENT
DTSTART;TZID=America/Denver:20210305T183000
DTEND;TZID=America/Denver:20210305T200000
DTSTAMP:20260424T153157
CREATED:20210223T210524Z
LAST-MODIFIED:20210223T235605Z
UID:22631-1614969000-1614974400@devfac.coloradocollege.edu
SUMMARY:Beginning Colored Pencil
DESCRIPTION:Adult 6 week class. Bring a whole new light to your art with various colored pencil techniques. Enhance your artistic style and express your creative voice with vibrant color. We will explore color theory\, color blending\, and other methods to advance your way of thinking in color. Still life studies will be investigated to understand depth\, light\, texture\, and much more. This virtual course includes live Zoom class sessions and live Zoom studio hours.
URL:https://devfac.coloradocollege.edu/event/beginning-colored-pencil-2/
LOCATION:Virtual
CATEGORIES:Art School
ATTACH;FMTTYPE=image/jpeg:https://devfac.coloradocollege.edu/wp-content/uploads/2020/09/Beginning-Colored-Pencil.jpg
END:VEVENT
BEGIN:VEVENT
DTSTART;TZID=America/Denver:20210313T130000
DTEND;TZID=America/Denver:20210313T143000
DTSTAMP:20260424T153157
CREATED:20210223T222009Z
LAST-MODIFIED:20210223T223915Z
UID:22665-1615640400-1615645800@devfac.coloradocollege.edu
SUMMARY:Beyond Reality
DESCRIPTION:Are you feeling a little tired of strict realism in your paintings\, but just don’t know how to break away? How do we move beyond our training of copying our subjects toward a more expressive interpretation? In this virtual course\, Dena will lead you through exercises designed to help you bring more abstraction\, excitement\, and passion to your work. This course includes live Zoom sessions and prerecorded content. This is a four week adult class.
URL:https://devfac.coloradocollege.edu/event/beyond-reality/
LOCATION:Virtual
CATEGORIES:Art School
ATTACH;FMTTYPE=image/jpeg:https://devfac.coloradocollege.edu/wp-content/uploads/2021/02/beyond-reality.jpg
END:VEVENT
BEGIN:VEVENT
DTSTART;TZID=America/Denver:20210311T170000
DTEND;TZID=America/Denver:20210311T190000
DTSTAMP:20260424T153157
CREATED:20210223T230608Z
LAST-MODIFIED:20210223T230608Z
UID:22692-1615482000-1615489200@devfac.coloradocollege.edu
SUMMARY:Ceramic Plaque Making
DESCRIPTION:6-week adult course. This virtual course focuses on plaque tile making through a series of personalized prerecorded video demonstrations\, exciting Zoom presentations\, and fun class interactions to celebrate the techniques of building in clay. Texturing\, slip decoration\, glazing techniques\, and how to work from a photo reference will be covered. This process can be done by anyone anywhere\, from outside in a park to the kitchen counter. This course includes live Zoom class sessions and prerecorded content. A detailed and strict drop-off for firing procedure\, complete with size\, weight\, and amount limits will be provided by the instructor. Please see the supply list below for details on clay and glaze kit pickup information.
URL:https://devfac.coloradocollege.edu/event/ceramic-plaque-making/
LOCATION:Virtual
CATEGORIES:Art School
ATTACH;FMTTYPE=image/jpeg:https://devfac.coloradocollege.edu/wp-content/uploads/2020/11/Ceramic-Plaque-Making.jpg
END:VEVENT
END:VCALENDAR