BEGIN:VCALENDAR
VERSION:2.0
PRODID:-//Fine Arts Center - ECPv6.13.0//NONSGML v1.0//EN
CALSCALE:GREGORIAN
METHOD:PUBLISH
X-WR-CALNAME:Fine Arts Center
X-ORIGINAL-URL:https://devfac.coloradocollege.edu
X-WR-CALDESC:Events for Fine Arts Center
REFRESH-INTERVAL;VALUE=DURATION:PT1H
X-Robots-Tag:noindex
X-PUBLISHED-TTL:PT1H
BEGIN:VTIMEZONE
TZID:America/Denver
BEGIN:DAYLIGHT
TZOFFSETFROM:-0700
TZOFFSETTO:-0600
TZNAME:MDT
DTSTART:20210314T090000
END:DAYLIGHT
BEGIN:STANDARD
TZOFFSETFROM:-0600
TZOFFSETTO:-0700
TZNAME:MST
DTSTART:20211107T080000
END:STANDARD
END:VTIMEZONE
BEGIN:VEVENT
DTSTART;TZID=America/Denver:20210111T110000
DTEND;TZID=America/Denver:20210111T130000
DTSTAMP:20260424T195439
CREATED:20210105T155710Z
LAST-MODIFIED:20210201T162454Z
UID:21825-1610362800-1610370000@devfac.coloradocollege.edu
SUMMARY:Belle Epoque Virtual Class
DESCRIPTION:Repurpose a children’s board book and create an art journal inspired by La Belle Epoque\, the beautiful era. Layers of gesso\, acrylic paints\, turn of the century ephemera\, tea-stained paper\, and stencils will be used to explore the patterns and nature-inspired motifs of this period. The art of Louis Tiffany and Gustav Klimt\, prominent artists of this era\, will also provide inspiration for creating expressive pages. This virtual course includes live Zoom class sessions and live Zoom studio hours. Ages 16-Adult
URL:https://devfac.coloradocollege.edu/event/belle-epoque-virtual-class/
LOCATION:Virtual
CATEGORIES:Art School,Calendar
ATTACH;FMTTYPE=image/jpeg:https://devfac.coloradocollege.edu/wp-content/uploads/2020/09/Belle-Epoque.jpg
END:VEVENT
BEGIN:VEVENT
DTSTART;TZID=America/Denver:20210121T190000
DTEND;TZID=America/Denver:20210121T203000
DTSTAMP:20260424T195439
CREATED:20201113T192621Z
LAST-MODIFIED:20210208T170927Z
UID:21219-1611255600-1611261000@devfac.coloradocollege.edu
SUMMARY:Invigorate Your Art in 2021
DESCRIPTION:Whether you are a total beginner or a seasoned professional\, there is much to learn in this virtual course that will improve your art. We will cover the artist’s mindset\, composition\, color\, experimentation\, process\, adding texture\, taking risks\, and keeping your art practice fun. If you are uninspired or in a slump\, this course will invigorate your art making practice. The principles and practices taught in this virtual course can be applied to any style of art. This course includes live Zoom class sessions and live Zoom studio hours. \nAges 16-Adult
URL:https://devfac.coloradocollege.edu/event/invigorate-your-art-in-2021/
LOCATION:Virtual
CATEGORIES:Art School
ATTACH;FMTTYPE=image/jpeg:https://devfac.coloradocollege.edu/wp-content/uploads/2020/11/Invigorate-Your-Art-in-2021.jpg
END:VEVENT
BEGIN:VEVENT
DTSTART;TZID=America/Denver:20210109T130000
DTEND;TZID=America/Denver:20210109T143000
DTSTAMP:20260424T195439
CREATED:20201113T175245Z
LAST-MODIFIED:20210129T232020Z
UID:21167-1610197200-1610202600@devfac.coloradocollege.edu
SUMMARY:Let’s Keep Going with Oil Painting
DESCRIPTION:This virtual course will pick up where Let’s Get Started with Oil Painting  left off. We will explore more advanced brushwork\, painting edges\, how to paint specific subjects in the landscape\, and floral subjects. You will also have the chance to get personalized feedback on your paintings. Take your basic knowledge of oil painting and go even further! Let’s Get Started with Oil Painting is a prerequisite for this class. This virtual course includes live Zoom sessions and prerecorded content. \nAges 16-Adult
URL:https://devfac.coloradocollege.edu/event/lets-keep-going-with-oil-painting/
LOCATION:Virtual
CATEGORIES:Art School
ATTACH;FMTTYPE=image/jpeg:https://devfac.coloradocollege.edu/wp-content/uploads/2020/11/Lets-Keep-Going-With-Oil-Painting.jpg
END:VEVENT
BEGIN:VEVENT
DTSTART;TZID=America/Denver:20210111T110000
DTEND;TZID=America/Denver:20210111T130000
DTSTAMP:20260424T195439
CREATED:20210105T155710Z
LAST-MODIFIED:20210201T162454Z
UID:21825-1610362800-1610370000@devfac.coloradocollege.edu
SUMMARY:Belle Epoque Virtual Class
DESCRIPTION:Repurpose a children’s board book and create an art journal inspired by La Belle Epoque\, the beautiful era. Layers of gesso\, acrylic paints\, turn of the century ephemera\, tea-stained paper\, and stencils will be used to explore the patterns and nature-inspired motifs of this period. The art of Louis Tiffany and Gustav Klimt\, prominent artists of this era\, will also provide inspiration for creating expressive pages. This virtual course includes live Zoom class sessions and live Zoom studio hours. Ages 16-Adult
URL:https://devfac.coloradocollege.edu/event/belle-epoque-virtual-class/
LOCATION:Virtual
CATEGORIES:Art School,Calendar
ATTACH;FMTTYPE=image/jpeg:https://devfac.coloradocollege.edu/wp-content/uploads/2020/09/Belle-Epoque.jpg
END:VEVENT
BEGIN:VEVENT
DTSTART;TZID=America/Denver:20210121T190000
DTEND;TZID=America/Denver:20210121T203000
DTSTAMP:20260424T195439
CREATED:20201113T192621Z
LAST-MODIFIED:20210208T170927Z
UID:21219-1611255600-1611261000@devfac.coloradocollege.edu
SUMMARY:Invigorate Your Art in 2021
DESCRIPTION:Whether you are a total beginner or a seasoned professional\, there is much to learn in this virtual course that will improve your art. We will cover the artist’s mindset\, composition\, color\, experimentation\, process\, adding texture\, taking risks\, and keeping your art practice fun. If you are uninspired or in a slump\, this course will invigorate your art making practice. The principles and practices taught in this virtual course can be applied to any style of art. This course includes live Zoom class sessions and live Zoom studio hours. \nAges 16-Adult
URL:https://devfac.coloradocollege.edu/event/invigorate-your-art-in-2021/
LOCATION:Virtual
CATEGORIES:Art School
ATTACH;FMTTYPE=image/jpeg:https://devfac.coloradocollege.edu/wp-content/uploads/2020/11/Invigorate-Your-Art-in-2021.jpg
END:VEVENT
BEGIN:VEVENT
DTSTART;TZID=America/Denver:20210223T140000
DTEND;TZID=America/Denver:20210223T153000
DTSTAMP:20260424T195439
CREATED:20210215T163239Z
LAST-MODIFIED:20210215T163239Z
UID:22354-1614088800-1614094200@devfac.coloradocollege.edu
SUMMARY:Artivism CO — Why We Need This Now: A conversation with Lisa Villanueva
DESCRIPTION:When you wake up in the morning and look in the eyes of your children\, grandchildren\, and those you love the most\, do you contemplate their future? Pause and reflect on our country’s state of environmental destruction\, violation of rights and the blatant silencing of voices in our marginalized communities? \nIf so\, please join us in a candid conversation about: \n\nHow and why Lisa created Artivism CO\nWhy partnering with community organizations like the Fine Arts Center’s Bemis School of Art at Colorado College is so important for connecting with local youth\nWhy children are (truly) the solution for a better future\n\nJoin Lisa Villanueva\, the creator and author of Artivism CO\, as she speaks through her own history\, and the history of Artivism CO\, an organization that facilitates and encourages young people to use art to evoke emotions while also exploring the human\, civil\, and environmental rights that lead to change.
URL:https://devfac.coloradocollege.edu/event/artivism-co-why-we-need-this-now-a-conversation-with-lisa-villanueva/
LOCATION:Virtual
CATEGORIES:Art School
ATTACH;FMTTYPE=image/jpeg:https://devfac.coloradocollege.edu/wp-content/uploads/2021/02/Lisa-Villanueva.jpg
END:VEVENT
END:VCALENDAR