BEGIN:VCALENDAR
VERSION:2.0
PRODID:-//Fine Arts Center - ECPv6.13.0//NONSGML v1.0//EN
CALSCALE:GREGORIAN
METHOD:PUBLISH
X-WR-CALNAME:Fine Arts Center
X-ORIGINAL-URL:https://devfac.coloradocollege.edu
X-WR-CALDESC:Events for Fine Arts Center
REFRESH-INTERVAL;VALUE=DURATION:PT1H
X-Robots-Tag:noindex
X-PUBLISHED-TTL:PT1H
BEGIN:VTIMEZONE
TZID:America/Denver
BEGIN:DAYLIGHT
TZOFFSETFROM:-0700
TZOFFSETTO:-0600
TZNAME:MDT
DTSTART:20220313T090000
END:DAYLIGHT
BEGIN:STANDARD
TZOFFSETFROM:-0600
TZOFFSETTO:-0700
TZNAME:MST
DTSTART:20221106T080000
END:STANDARD
END:VTIMEZONE
BEGIN:VEVENT
DTSTART;VALUE=DATE:20220114
DTEND;VALUE=DATE:20220410
DTSTAMP:20260419T084445
CREATED:20211206T210424Z
LAST-MODIFIED:20211206T210424Z
UID:26771-1642118400-1649548799@devfac.coloradocollege.edu
SUMMARY:Kukuli Velarde: CORPUS
DESCRIPTION:An installation of sculpture and textiles that encourages reflection on the meaning of survival in the face of colonialism by blending Indigenous and European aesthetics in a critical representation of the celebration of Corpus Christi in Peru. \nImage: Patrón Santiago\, 2012\, Low fire clay\, underglazes\, casein paint\, gold leaf. 33 x 19.3 x 10.45 in.\, Inspired by work from the Tiwanaku culture (Bolivia). Images courtesy the artist.
URL:https://devfac.coloradocollege.edu/event/kukuli-velarde-corpus/
LOCATION:Fine Arts Center\, 30 W. Dale St.\, Colorado Springs\, CO\, 80903\, United States
CATEGORIES:Museum Exhibition
ATTACH;FMTTYPE=image/jpeg:https://devfac.coloradocollege.edu/wp-content/uploads/2021/11/Kukuli-Velarde-Santiago.jpg
END:VEVENT
BEGIN:VEVENT
DTSTART;VALUE=DATE:20220201
DTEND;VALUE=DATE:20220220
DTSTAMP:20260419T084445
CREATED:20220119T183138Z
LAST-MODIFIED:20220119T183243Z
UID:27532-1643673600-1645315199@devfac.coloradocollege.edu
SUMMARY:The Raid: Play Reading
DESCRIPTION:In celebration of Black History Month enjoy this reading of Idris Goodwin’s play\, The Raid\, recorded in 2021\, based on the events that took place Oct 16–18\, 1859. \nJohn Brown is convinced only bloodshed will dismantle American Slavery. After fighting alongside his sons in Kansas\, Brown plots to make real his vision: To free and arm black slaves across the south. With Frederick Douglass and Harriet Tubman conflicted\, Brown heads to Harpers Ferry. A tragedy of dissenting heroes\, The Raid investigates the line between civic disobedience and civic duty.
URL:https://devfac.coloradocollege.edu/event/the-raid/
LOCATION:Virtual
CATEGORIES:Special Event
ATTACH;FMTTYPE=image/jpeg:https://devfac.coloradocollege.edu/wp-content/uploads/2021/01/The-Raid_500.jpg
END:VEVENT
BEGIN:VEVENT
DTSTART;TZID=America/Denver:20220126T090000
DTEND;TZID=America/Denver:20220126T120000
DTSTAMP:20260419T084445
CREATED:20211220T050917Z
LAST-MODIFIED:20211220T050917Z
UID:26998-1643187600-1643198400@devfac.coloradocollege.edu
SUMMARY:Beyond Relief: Dry Point and Paper Litho
DESCRIPTION:Have you done some printmaking and want to do more? In this class you will learn to expand your printmaking vocabulary to include paper lithography and dry point. Learn how to use these techniques in addition to relief and mono prints. \nLevel I – This class is for those with some familiarity with the medium. This could include informal use of the medium outside of the classroom.
URL:https://devfac.coloradocollege.edu/event/beyond-relief-dry-point-and-paper-litho/
LOCATION:Bemis School of Art\, 818 Pelham Pl\, Colorado Springs\, CO\, 80903\, United States
CATEGORIES:Art School
ATTACH;FMTTYPE=image/jpeg:https://devfac.coloradocollege.edu/wp-content/uploads/2021/12/A20-Beyond-Relief-Dry-Point-and-Paper-Litho.jpg
END:VEVENT
BEGIN:VEVENT
DTSTART;TZID=America/Denver:20220126T090000
DTEND;TZID=America/Denver:20220126T120000
DTSTAMP:20260419T084445
CREATED:20220104T194338Z
LAST-MODIFIED:20220104T194338Z
UID:27092-1643187600-1643198400@devfac.coloradocollege.edu
SUMMARY:Intermediate Wheel Throwing
DESCRIPTION:This re-introduction to wheel throwing will focus on the basic methods of centering clay while throwing bowls and cylinders such as mugs and vases. Use a variety of finishing and glazing techniques to produce finished works of art. \nLevel I – This class is for those with some familiarity with the medium. This could include informal use of the medium outside of the classroom.
URL:https://devfac.coloradocollege.edu/event/intermediate-wheel-throwing/
LOCATION:Bemis School of Art\, 818 Pelham Pl\, Colorado Springs\, CO\, 80903\, United States
CATEGORIES:Art School
ATTACH;FMTTYPE=image/jpeg:https://devfac.coloradocollege.edu/wp-content/uploads/2022/01/A29-Intermediate-Wheel-Throwing.jpg
END:VEVENT
BEGIN:VEVENT
DTSTART;TZID=America/Denver:20220126T180000
DTEND;TZID=America/Denver:20220126T210000
DTSTAMP:20260419T084445
CREATED:20220104T194954Z
LAST-MODIFIED:20220104T194954Z
UID:27116-1643220000-1643230800@devfac.coloradocollege.edu
SUMMARY:Handbuilding Ceramics
DESCRIPTION:A beginner’s guide to hand building clay\, this course covers traditional and not-so-traditional building techniques to create by hand. A variety of texturing and glazing techniques will also be covered\, while celebrating individual’s style and interests. \nLevel 0 – This class is for the true beginner with no prior experience in the medium.
URL:https://devfac.coloradocollege.edu/event/handbuilding-ceramics/
LOCATION:Bemis School of Art\, 818 Pelham Pl\, Colorado Springs\, CO\, 80903\, United States
CATEGORIES:Art School
ATTACH;FMTTYPE=image/jpeg:https://devfac.coloradocollege.edu/wp-content/uploads/2022/01/A28-Handbuilding-Ceramics.jpg
END:VEVENT
BEGIN:VEVENT
DTSTART;TZID=America/Denver:20220119T190000
DTEND;TZID=America/Denver:20220119T210000
DTSTAMP:20260419T084445
CREATED:20211220T042919Z
LAST-MODIFIED:20220121T233711Z
UID:26894-1642618800-1642626000@devfac.coloradocollege.edu
SUMMARY:The Art of Haiku
DESCRIPTION:Haiku originated in the 1600s in Japan but remains widely read today. In fact\, its concision and brevity lend itself to today’s life. In this class we will learn the history and various forms of haiku. We will read traditional haiku and examples from today\, including the contemporary journal Modern Haiku. You will come away with a better understanding and appreciation of haiku\, as well as a batch of your own finely tuned haiku. Ages 16–Adult \nLevel I – This class is for those with some familiarity with the medium. This could include informal use of the medium outside of the classroom.
URL:https://devfac.coloradocollege.edu/event/the-art-of-haiku/
LOCATION:Bemis School of Art\, 818 Pelham Pl\, Colorado Springs\, CO\, 80903\, United States
CATEGORIES:Art School
ATTACH;FMTTYPE=image/jpeg:https://devfac.coloradocollege.edu/wp-content/uploads/2021/12/imageedit_2_8968701152_768x432_acf_cropped-2.jpg
END:VEVENT
END:VCALENDAR