BEGIN:VCALENDAR
VERSION:2.0
PRODID:-//Fine Arts Center - ECPv6.13.0//NONSGML v1.0//EN
CALSCALE:GREGORIAN
METHOD:PUBLISH
X-WR-CALNAME:Fine Arts Center
X-ORIGINAL-URL:https://devfac.coloradocollege.edu
X-WR-CALDESC:Events for Fine Arts Center
REFRESH-INTERVAL;VALUE=DURATION:PT1H
X-Robots-Tag:noindex
X-PUBLISHED-TTL:PT1H
BEGIN:VTIMEZONE
TZID:America/Denver
BEGIN:DAYLIGHT
TZOFFSETFROM:-0700
TZOFFSETTO:-0600
TZNAME:MDT
DTSTART:20210314T090000
END:DAYLIGHT
BEGIN:STANDARD
TZOFFSETFROM:-0600
TZOFFSETTO:-0700
TZNAME:MST
DTSTART:20211107T080000
END:STANDARD
END:VTIMEZONE
BEGIN:VEVENT
DTSTART;TZID=America/Denver:20211001T100000
DTEND;TZID=America/Denver:20211205T160000
DTSTAMP:20260419T200359
CREATED:20210907T135111Z
LAST-MODIFIED:20210929T162218Z
UID:26060-1633082400-1638720000@devfac.coloradocollege.edu
SUMMARY:Ronny Quevedo: at the line
DESCRIPTION:Working across printmaking\, drawing\, sculpture\, and installation\, Ronny Quevedo uses schematics—from dressmakers’ pattern sheets to architectural plans to geographical maps—in order to explore the formation of individual identity that is shaped by a fractured past. References to zoot suits are brought into conversation with Quechua culture\, while Mesoamerican ballcourts are placed next to diagrams of soccer stadiums. Intentionally conflating time\, space and languages\, the artist maps relations between distinct histories\, narratives\, and visual forms.
URL:https://devfac.coloradocollege.edu/event/ronny-quevedo-at-the-line/
LOCATION:Fine Arts Center\, 30 W. Dale St.\, Colorado Springs\, CO\, 80903\, United States
CATEGORIES:Museum Exhibition
ATTACH;FMTTYPE=image/jpeg:https://devfac.coloradocollege.edu/wp-content/uploads/2021/07/Ronny-Quevedo_500.jpg
END:VEVENT
BEGIN:VEVENT
DTSTART;TZID=America/Denver:20211119T100000
DTEND;TZID=America/Denver:20211119T130000
DTSTAMP:20260419T200359
CREATED:20210820T153246Z
LAST-MODIFIED:20210820T153246Z
UID:25611-1637316000-1637326800@devfac.coloradocollege.edu
SUMMARY:Pleasing Pitchers
DESCRIPTION:Learn slab construction to hand build a pleasing pitcher with whimsical forms using textured clay slabs. Move from flat to freestanding using simple measurements and flat patterns. Further embellish your pitcher with decorative elements made from coils that are attached to bodies\, handles and spouts. Everyone will love your one-ofa-kind pitchers! Supply list online. \nInstructor: Rui Haagen \nAges 16–Adult \nLevel 0 – This class is for the true beginner\nwith no prior experience in the medium.
URL:https://devfac.coloradocollege.edu/event/pleasing-pitchers-2/
LOCATION:Bemis School of Art\, 818 Pelham Pl\, Colorado Springs\, CO\, 80903\, United States
CATEGORIES:Art School
ATTACH;FMTTYPE=image/jpeg:https://devfac.coloradocollege.edu/wp-content/uploads/2021/08/Image-Pleasing-Pitchers500.jpeg
END:VEVENT
BEGIN:VEVENT
DTSTART;TZID=America/Denver:20211203T163000
DTEND;TZID=America/Denver:20211203T200000
DTSTAMP:20260419T200359
CREATED:20211118T202006Z
LAST-MODIFIED:20211203T175328Z
UID:26712-1638549000-1638561600@devfac.coloradocollege.edu
SUMMARY:First Friday
DESCRIPTION:Join us for a First Friday celebration at the FAC! Museum admission is FREE from 5-8 p.m. Drinks and small plates will be available in Deco Lounge (credit card payments only). \nIn the Ladyfingers shop: Local designer Noel Dolan will be in the shop hand lettering custom ornaments \nOn stage: Celebrate the opening of Rodgers & Hammerstein’s Cinderella \nIn the museum: Catch Ronny Quevedo: at the line before it closes Dec. 4 \nThere will be live music and performances by Colorado College students in the exhibition Ronny Quevedo: at the line. Performing on the floor installation\, at the line\, students will respond to the themes of movement\, fragmentation\, and displacement which are exhibited throughout Ronny Quevedo’s work. Come watch these performances and experience the exhibition in its final days at the FAC. Performances begin at 4:30 p.m. and run until 7 p.m. \nPerformance schedule:\n4:30-4:45 – Primo Seat\n4:50-5:05 – Leo Patternity\n5:10-5:25 – Twit\n5:30-5:45 – Tenderheart\n5:50-6:05 – Rocky Mountain Tops\n6:10-6:25 – Funk Off!\n6:30-6:45 – Tiny Tomboy \n\nIMPORTANT COVID-19 guidelines \n\n  \nPlease register to join us
URL:https://devfac.coloradocollege.edu/event/first-friday-december-2021/
LOCATION:Fine Arts Center\, 30 W. Dale St.\, Colorado Springs\, CO\, 80903\, United States
CATEGORIES:Calendar,Museum,Special Event
ATTACH;FMTTYPE=image/jpeg:https://devfac.coloradocollege.edu/wp-content/uploads/2021/11/ronny-q-first-friday2_dec2021.jpg
END:VEVENT
END:VCALENDAR