BEGIN:VCALENDAR
VERSION:2.0
PRODID:-//Fine Arts Center - ECPv6.13.0//NONSGML v1.0//EN
CALSCALE:GREGORIAN
METHOD:PUBLISH
X-WR-CALNAME:Fine Arts Center
X-ORIGINAL-URL:https://devfac.coloradocollege.edu
X-WR-CALDESC:Events for Fine Arts Center
REFRESH-INTERVAL;VALUE=DURATION:PT1H
X-Robots-Tag:noindex
X-PUBLISHED-TTL:PT1H
BEGIN:VTIMEZONE
TZID:America/Denver
BEGIN:DAYLIGHT
TZOFFSETFROM:-0700
TZOFFSETTO:-0600
TZNAME:MDT
DTSTART:20210314T090000
END:DAYLIGHT
BEGIN:STANDARD
TZOFFSETFROM:-0600
TZOFFSETTO:-0700
TZNAME:MST
DTSTART:20211107T080000
END:STANDARD
END:VTIMEZONE
BEGIN:VEVENT
DTSTART;TZID=America/Denver:20210930T193000
DTEND;TZID=America/Denver:20210930T210000
DTSTAMP:20260420T061417
CREATED:20210621T185008Z
LAST-MODIFIED:20210809T204426Z
UID:24281-1633030200-1633035600@devfac.coloradocollege.edu
SUMMARY:Guadalupe in the Guestroom
DESCRIPTION:Guadalupe in the Guest Room chronicles a funny and heartfelt story of shared grief and love between two people separated by a language barrier\, ultimately proving that understanding doesn’t always require speaking the same language.  \nGuadalupe is living in the guest room of her son-in-law\, Steve\, while she works to translate from English to Spanish the children’s books her deceased daughter has written. Overcome with grief and separated by a language barrier\, the unlikely housemates struggle to communicate. As Guadalupe and Steve begin watching a television show together\, they bond in unexpected ways\, leading them to learn that understanding doesn’t always require speaking the same language. Guadalupe in the Guest Room is a funny and heartfelt celebration of new beginnings\, breaking barriers\, and the healing power of telenovelas.
URL:https://devfac.coloradocollege.edu/event/guadalupe-in-the-guestroom/
LOCATION:Fine Arts Center\, 30 W. Dale St.\, Colorado Springs\, CO\, 80903\, United States
CATEGORIES:Theatre
ATTACH;FMTTYPE=image/jpeg:https://devfac.coloradocollege.edu/wp-content/uploads/2021/07/1120900_PhotoManip05_071921-Guadalupe500x500-FNL.jpg
END:VEVENT
END:VCALENDAR