BEGIN:VCALENDAR
VERSION:2.0
PRODID:-//Fine Arts Center - ECPv6.13.0//NONSGML v1.0//EN
CALSCALE:GREGORIAN
METHOD:PUBLISH
X-WR-CALNAME:Fine Arts Center
X-ORIGINAL-URL:https://devfac.coloradocollege.edu
X-WR-CALDESC:Events for Fine Arts Center
REFRESH-INTERVAL;VALUE=DURATION:PT1H
X-Robots-Tag:noindex
X-PUBLISHED-TTL:PT1H
BEGIN:VTIMEZONE
TZID:America/Denver
BEGIN:DAYLIGHT
TZOFFSETFROM:-0700
TZOFFSETTO:-0600
TZNAME:MDT
DTSTART:20210314T090000
END:DAYLIGHT
BEGIN:STANDARD
TZOFFSETFROM:-0600
TZOFFSETTO:-0700
TZNAME:MST
DTSTART:20211107T080000
END:STANDARD
END:VTIMEZONE
BEGIN:VEVENT
DTSTART;VALUE=DATE:20210927
DTEND;VALUE=DATE:20210928
DTSTAMP:20260420T072437
CREATED:20210510T171159Z
LAST-MODIFIED:20210510T171159Z
UID:23669-1632700800-1632787199@devfac.coloradocollege.edu
SUMMARY:Enchanted Textures of Taos\, New Mexico
DESCRIPTION:This plein air water-media workshop takes place in and around the historic town of Taos\, New Mexico. In 1915\, Taos became famous as the home of the Taos Society of Artists and has remained an artist’s mecca ever since. Our instructor Martha has also become enchanted with New Mexico and uses its light and textures as the subject of her watercolor and oil paintings. The chamisa\, sage\, and cottonwood trees against the rugged mountains and mesas make up the enticing landscape of northern New Mexico that she paints. In autumn\, the textures and colors are especially glorious— experience this inspiring environment for yourself! Martha will provide instruction in water-based media\, including transparent watercolor\, gouache\, and acrylic\, while you paint on-site in picturesque Taos. Improve your paintings with a greater understanding of elements of design\, including employing rhythm in landscape painting and leading the viewer through the painting by providing a point of interest. Add strength to your composition using light\, midtones\, and rich darks. Learn how to achieve rich color using paint-to-water ratio. Supply list online. Adults. \nInstructor: Martha Mans
URL:https://devfac.coloradocollege.edu/event/enchanted-textures-of-taos-new-mexico/
LOCATION:Bemis School of Art\, 818 Pelham Pl\, Colorado Springs\, CO\, 80903\, United States
CATEGORIES:Art School
ATTACH;FMTTYPE=image/jpeg:https://devfac.coloradocollege.edu/wp-content/uploads/2021/05/Enchanted-Textures-of-Taos-New-Mexico-Mans-Martha500.jpg
END:VEVENT
BEGIN:VEVENT
DTSTART;TZID=America/Denver:20210920T100000
DTEND;TZID=America/Denver:20210920T130000
DTSTAMP:20260420T072437
CREATED:20210820T152708Z
LAST-MODIFIED:20211102T163557Z
UID:25731-1632132000-1632142800@devfac.coloradocollege.edu
SUMMARY:Beading Basics
DESCRIPTION:Learn the techniques the professionals use to design\, create\, and finish earrings\, necklaces\, and bracelets. Create unique pieces to enhance your wardrobe\, give as gifts\, or create jewelry to sell. You will also learn techniques to repair vintage favorites to be worn again or revamp them into something new. Supply List online. Ages 16–Adult \nInstructor: Ona-Marie Engle\nLevel 0 – This class is for the true beginner with no prior experience in the medium.
URL:https://devfac.coloradocollege.edu/event/beading-basics/
LOCATION:Bemis School of Art\, 818 Pelham Pl\, Colorado Springs\, CO\, 80903\, United States
CATEGORIES:Art School
ATTACH;FMTTYPE=image/jpeg:https://devfac.coloradocollege.edu/wp-content/uploads/2021/08/Image-Beading-Basics500.jpg
END:VEVENT
END:VCALENDAR