BEGIN:VCALENDAR
VERSION:2.0
PRODID:-//Fine Arts Center - ECPv6.13.0//NONSGML v1.0//EN
CALSCALE:GREGORIAN
METHOD:PUBLISH
X-WR-CALNAME:Fine Arts Center
X-ORIGINAL-URL:https://devfac.coloradocollege.edu
X-WR-CALDESC:Events for Fine Arts Center
REFRESH-INTERVAL;VALUE=DURATION:PT1H
X-Robots-Tag:noindex
X-PUBLISHED-TTL:PT1H
BEGIN:VTIMEZONE
TZID:America/Denver
BEGIN:DAYLIGHT
TZOFFSETFROM:-0700
TZOFFSETTO:-0600
TZNAME:MDT
DTSTART:20210314T090000
END:DAYLIGHT
BEGIN:STANDARD
TZOFFSETFROM:-0600
TZOFFSETTO:-0700
TZNAME:MST
DTSTART:20211107T080000
END:STANDARD
END:VTIMEZONE
BEGIN:VEVENT
DTSTART;VALUE=DATE:20210212
DTEND;VALUE=DATE:20210822
DTSTAMP:20260420T061430
CREATED:20210105T161159Z
LAST-MODIFIED:20210105T161159Z
UID:21836-1613088000-1629590399@devfac.coloradocollege.edu
SUMMARY:Anna Tsouhlarakis: To Bind or to Burn
DESCRIPTION:To Bind or To Burn presents recent works by multi-media and performance artist Anna Tsouhlarakis (Navajo\, Creek\, and Greek). Tsouhlarakis was the 2019-20 Andrew W. Mellon artist in residence at the FAC. During this time in the studio\, she explored projects that questioned how to indigenize contemporary art practice. This exhibition combines art works from these explorations with earlier works to show her continued engagement with the connections between Native American Art and Minimalism.
URL:https://devfac.coloradocollege.edu/event/anna-tsouhlarakis-to-bind-or-to-burn/
LOCATION:Fine Arts Center\, 30 W. Dale St.\, Colorado Springs\, CO\, 80903\, United States
CATEGORIES:Museum Exhibition
ATTACH;FMTTYPE=image/jpeg:https://devfac.coloradocollege.edu/wp-content/uploads/2020/12/anna-tsouhlarakis_square.jpg
END:VEVENT
BEGIN:VEVENT
DTSTART;VALUE=DATE:20210528
DTEND;VALUE=DATE:20210905
DTSTAMP:20260420T061430
CREATED:20210222T231513Z
LAST-MODIFIED:20210901T163142Z
UID:22576-1622160000-1630799999@devfac.coloradocollege.edu
SUMMARY:Ansel Adams: Masterworks
DESCRIPTION:Ansel Adams: Masterworks features a collection of forty-eight photographs from the “Museum Set.” Included in this presentation are many of the breathtaking landscapes—taken at national parks in California\, Nevada\, New Mexico\, Wyoming\, and Texas—for which the artist is best known. The exhibition also features examples that speak to the breadth of Adams’ interest\, such as architectural structures\, natural landscapes\, cultural sites\, and portraits taken across Alaska\, Colorado\, Hawaii\, New Mexico\, and New York. Together\, these works represent a selection of the artist’s most famous and best-loved photographs and encompass the full scope of his life’s work.
URL:https://devfac.coloradocollege.edu/event/ansel-adams-masterworks/
LOCATION:Fine Arts Center\, 30 W. Dale St.\, Colorado Springs\, CO\, 80903\, United States
CATEGORIES:Museum Exhibition
ATTACH;FMTTYPE=image/jpeg:https://devfac.coloradocollege.edu/wp-content/uploads/2021/02/ansel-adams-masterworks_500.jpg
END:VEVENT
BEGIN:VEVENT
DTSTART;VALUE=DATE:20210528
DTEND;VALUE=DATE:20210905
DTSTAMP:20260420T061430
CREATED:20210609T001344Z
LAST-MODIFIED:20210609T162217Z
UID:24613-1622160000-1630799999@devfac.coloradocollege.edu
SUMMARY:Eugène Atget: Photographing Paris\, 1898–1925
DESCRIPTION:Exhibition organized by Emma Powell \nIn 1925\, while working in Paris as an art studio assistant\, American photographer Berenice Abbott (1898–1991) befriended the French photographer Eugène Atget (1857–1927). After Atget passed away two years later\, Abbott secured a selection of his glass negatives. She returned to New York City and began a quest to establish Atget’s artistic legacy.
URL:https://devfac.coloradocollege.edu/event/eugene-atget-photographing-paris-1898-1925-2/
LOCATION:Fine Arts Center\, 30 W. Dale St.\, Colorado Springs\, CO\, 80903\, United States
CATEGORIES:Museum Exhibition
ATTACH;FMTTYPE=image/jpeg:https://devfac.coloradocollege.edu/wp-content/uploads/2021/05/mens-fashion-Eugene-Atget_500.jpg
END:VEVENT
BEGIN:VEVENT
DTSTART;TZID=America/Denver:20210618T100000
DTEND;TZID=America/Denver:20210618T110000
DTSTAMP:20260420T061430
CREATED:20210510T171557Z
LAST-MODIFIED:20210510T171557Z
UID:23769-1624010400-1624014000@devfac.coloradocollege.edu
SUMMARY:Virtual: Dena’s Art Dialogues
DESCRIPTION:Prerequisite: Completion of at least one previous course offered by Dena Peterson. \nIf you are a previous student of Dena Peterson’s\, you are invited to meet with her and other past students for an in-depth discussion of a variety of topics related to painting. Explore different themes each month based on students’ interests. Together\, the class will investigate a wide variety of art\, engage in lively discussion\, and navigate new ideas. In addition to dynamic discussions\, this course features live demonstrations and painting critiques. This will be a safe and fun group in which to grow as an artist! This course includes live Zoom class sessions. Adult class. \nInstructor: Dena Peterson
URL:https://devfac.coloradocollege.edu/event/virtual-denas-art-dialogues/
LOCATION:Virtual
CATEGORIES:Art School
ATTACH;FMTTYPE=image/jpeg:https://devfac.coloradocollege.edu/wp-content/uploads/2021/05/Denas-Art-Dialogues-Peterson-Dena500.jpg
END:VEVENT
BEGIN:VEVENT
DTSTART;TZID=America/Denver:20210730T100000
DTEND;TZID=America/Denver:20210730T130000
DTSTAMP:20260420T061430
CREATED:20210510T170536Z
LAST-MODIFIED:20210617T200957Z
UID:23722-1627639200-1627650000@devfac.coloradocollege.edu
SUMMARY:Pleasing Pitchers
DESCRIPTION:Seize this opportunity to engage in a mindful\, semiprivate studio experience. Learn slab construction and glazing techniques to handbuild a pleasing large\, medium\, or small pitcher from textured clay slabs. Move from flat to freestanding using simple measurements and flat patterns. Add coiled decorations\, pinched flowers\,\nor animal forms to your pitcher bodies\, handles\, and spouts. Wow your friends with your pleasing pitcher! Supply list online. Maximum number of students from the same household: 4. Ages 16–Adult \nInstructor: Rui Haagen
URL:https://devfac.coloradocollege.edu/event/pleasing-pitchers/
LOCATION:Bemis School of Art\, 818 Pelham Pl\, Colorado Springs\, CO\, 80903\, United States
CATEGORIES:Art School
ATTACH;FMTTYPE=image/jpeg:https://devfac.coloradocollege.edu/wp-content/uploads/2021/02/pleasing-pitchers.jpg
END:VEVENT
BEGIN:VEVENT
DTSTART;TZID=America/Denver:20210807T100000
DTEND;TZID=America/Denver:20210807T130000
DTSTAMP:20260420T061430
CREATED:20210510T171421Z
LAST-MODIFIED:20210510T171421Z
UID:23753-1628330400-1628341200@devfac.coloradocollege.edu
SUMMARY:Handbuilding at Large
DESCRIPTION:In this ceramics workshop\, we will investigate different techniques for building large-scale ceramic ware using molds\, slabs\, and coils. Impress yourself by creating something you’ve always dreamed of making! Supply list online. Maximum number of students from the same household: 5. Adult class. \nInstructor: Cara McKinley
URL:https://devfac.coloradocollege.edu/event/handbuilding-at-large/
LOCATION:Bemis School of Art\, 818 Pelham Pl\, Colorado Springs\, CO\, 80903\, United States
CATEGORIES:Art School
ATTACH;FMTTYPE=image/jpeg:https://devfac.coloradocollege.edu/wp-content/uploads/2021/05/Handbuilding-at-Large-Mckinley-Cara500.jpg
END:VEVENT
BEGIN:VEVENT
DTSTART;TZID=America/Denver:20210812T200000
DTEND;TZID=America/Denver:20210812T213000
DTSTAMP:20260420T061430
CREATED:20210524T233022Z
LAST-MODIFIED:20210524T233023Z
UID:24023-1628798400-1628803800@devfac.coloradocollege.edu
SUMMARY:Where Did We Sit on the Bus?
DESCRIPTION:Where Did We Sit on the Bus? is an electric one-person show pulsing with Latin rhythms\, rap\, hip-hop\, spoken word\, and live looping. During a third grade lesson on the Civil Rights movement and Rosa Parks\, a Latinx student raises their hand to ask\, “Where did we sit on the bus?” and their teacher can’t answer the question. This thrilling production examines what it means to be Latinx through the eyes of a child\, turned teenager\, turned adult.
URL:https://devfac.coloradocollege.edu/event/where-did-we-sit-on-the-bus/
LOCATION:Fine Arts Center\, 30 W. Dale St.\, Colorado Springs\, CO\, 80903\, United States
CATEGORIES:Theatre
ATTACH;FMTTYPE=image/jpeg:https://devfac.coloradocollege.edu/wp-content/uploads/2021/05/Where-did-we-sit-on-the-bus_500-01.jpg
END:VEVENT
END:VCALENDAR