BEGIN:VCALENDAR
VERSION:2.0
PRODID:-//Fine Arts Center - ECPv6.13.0//NONSGML v1.0//EN
CALSCALE:GREGORIAN
METHOD:PUBLISH
X-WR-CALNAME:Fine Arts Center
X-ORIGINAL-URL:https://devfac.coloradocollege.edu
X-WR-CALDESC:Events for Fine Arts Center
REFRESH-INTERVAL;VALUE=DURATION:PT1H
X-Robots-Tag:noindex
X-PUBLISHED-TTL:PT1H
BEGIN:VTIMEZONE
TZID:America/Denver
BEGIN:DAYLIGHT
TZOFFSETFROM:-0700
TZOFFSETTO:-0600
TZNAME:MDT
DTSTART:20200308T090000
END:DAYLIGHT
BEGIN:STANDARD
TZOFFSETFROM:-0600
TZOFFSETTO:-0700
TZNAME:MST
DTSTART:20201101T080000
END:STANDARD
BEGIN:DAYLIGHT
TZOFFSETFROM:-0700
TZOFFSETTO:-0600
TZNAME:MDT
DTSTART:20210314T090000
END:DAYLIGHT
BEGIN:STANDARD
TZOFFSETFROM:-0600
TZOFFSETTO:-0700
TZNAME:MST
DTSTART:20211107T080000
END:STANDARD
END:VTIMEZONE
BEGIN:VEVENT
DTSTART;TZID=America/Denver:20201204T100000
DTEND;TZID=America/Denver:20210807T160000
DTSTAMP:20260419T171311
CREATED:20201117T001330Z
LAST-MODIFIED:20210609T162042Z
UID:21296-1607076000-1628352000@devfac.coloradocollege.edu
SUMMARY:Papel Chicano Dos: Works on Paper from the Collection of Cheech Marin
DESCRIPTION:Experience artworks from 24 established and emerging Chicana/o artists created from the late 1980s to present day from the collection of Cheech Marin.
URL:https://devfac.coloradocollege.edu/event/papel-chicano-dos-works-on-paper-from-the-collection-of-cheech-marin/
LOCATION:Fine Arts Center\, 30 W. Dale St.\, Colorado Springs\, CO\, 80903\, United States
CATEGORIES:Museum Exhibition
ATTACH;FMTTYPE=image/jpeg:https://devfac.coloradocollege.edu/wp-content/uploads/2020/11/papel-chicano-dos.jpg
END:VEVENT
BEGIN:VEVENT
DTSTART;VALUE=DATE:20210212
DTEND;VALUE=DATE:20210822
DTSTAMP:20260419T171311
CREATED:20210105T161159Z
LAST-MODIFIED:20210105T161159Z
UID:21836-1613088000-1629590399@devfac.coloradocollege.edu
SUMMARY:Anna Tsouhlarakis: To Bind or to Burn
DESCRIPTION:To Bind or To Burn presents recent works by multi-media and performance artist Anna Tsouhlarakis (Navajo\, Creek\, and Greek). Tsouhlarakis was the 2019-20 Andrew W. Mellon artist in residence at the FAC. During this time in the studio\, she explored projects that questioned how to indigenize contemporary art practice. This exhibition combines art works from these explorations with earlier works to show her continued engagement with the connections between Native American Art and Minimalism.
URL:https://devfac.coloradocollege.edu/event/anna-tsouhlarakis-to-bind-or-to-burn/
LOCATION:Fine Arts Center\, 30 W. Dale St.\, Colorado Springs\, CO\, 80903\, United States
CATEGORIES:Museum Exhibition
ATTACH;FMTTYPE=image/jpeg:https://devfac.coloradocollege.edu/wp-content/uploads/2020/12/anna-tsouhlarakis_square.jpg
END:VEVENT
BEGIN:VEVENT
DTSTART;VALUE=DATE:20210507
DTEND;VALUE=DATE:20210517
DTSTAMP:20260419T171311
CREATED:20210408T160715Z
LAST-MODIFIED:20210408T160715Z
UID:23248-1620345600-1621209599@devfac.coloradocollege.edu
SUMMARY:FAC Theatre School Cabaret
DESCRIPTION:We’re excited to present our very first FAC Theatre School Cabaret! Our young thespians have been hard at work this spring devising work to share with you. This virtual cabaret includes singing\, dancing\, poetry\, and more\, all performed by students from our Budding Thespians\, Emerging Artists\, and Youth Rep classes.
URL:https://devfac.coloradocollege.edu/event/fac-theatre-school-cabaret/
LOCATION:Virtual
CATEGORIES:Theatre
ATTACH;FMTTYPE=image/jpeg:https://devfac.coloradocollege.edu/wp-content/uploads/2021/04/FACTS_cabaret_500.jpg
END:VEVENT
BEGIN:VEVENT
DTSTART;TZID=America/Denver:20210511T170000
DTEND;TZID=America/Denver:20210511T180000
DTSTAMP:20260419T171311
CREATED:20210408T221310Z
LAST-MODIFIED:20210412T150723Z
UID:23260-1620752400-1620756000@devfac.coloradocollege.edu
SUMMARY:Libation Creations: Spring Edition
DESCRIPTION:Artmaking Happy Hour Series\nThe days are getting longer\, the sun is shining brighter\, and blooms are beginning to recolor our world. That’s right\, spring is in the air! Revitalize and celebrate with artist Linda Sagastume and mixologist Angelina Rice whose springtime creations will inspire as we usher in new beginnings. \nHere’s what to expect-\nStep 1: Angelina will guide you through mixing a delicious Spring-inspired Strawberry-Mint Gin Spritz cocktail in a step-by-step demonstration\, live from her winery\, Mesa Winds\, in Hotchkiss\, Colorado. (Directions for a non-alcoholic version also provided.) \nStep 2: Drink in hand\, follow along with Linda as you create vibrant painted paper flowers using items you probably already have around the house. \nStep 3: Sit back\, sip\, and admire your creations! \nShare along with your artsy happy hour loving friends & family! No skills necessary. This is a fun live event and participants are encouraged to engage and ask questions along the way. You’ll receive a list of drink ingredients and art supplies upon registration. \nFAC Members: $5; Non-members: $10 \nRegister for this Libation Creation Event
URL:https://devfac.coloradocollege.edu/event/spring-libation-creation/
LOCATION:Virtual
ATTACH;FMTTYPE=image/jpeg:https://devfac.coloradocollege.edu/wp-content/uploads/2021/04/libation-creation-may2021.jpg
END:VEVENT
END:VCALENDAR